BEGIN:VCALENDAR
VERSION:2.0
PRODID:-//The Bend Theater | West Bend, WI - ECPv6.15.17.1//NONSGML v1.0//EN
CALSCALE:GREGORIAN
METHOD:PUBLISH
X-ORIGINAL-URL:https://thebendwi.org
X-WR-CALDESC:Events for The Bend Theater | West Bend, WI
REFRESH-INTERVAL;VALUE=DURATION:PT1H
X-Robots-Tag:noindex
X-PUBLISHED-TTL:PT1H
BEGIN:VTIMEZONE
TZID:America/Chicago
BEGIN:DAYLIGHT
TZOFFSETFROM:-0600
TZOFFSETTO:-0500
TZNAME:CDT
DTSTART:20250309T080000
END:DAYLIGHT
BEGIN:STANDARD
TZOFFSETFROM:-0500
TZOFFSETTO:-0600
TZNAME:CST
DTSTART:20251102T070000
END:STANDARD
BEGIN:DAYLIGHT
TZOFFSETFROM:-0600
TZOFFSETTO:-0500
TZNAME:CDT
DTSTART:20260308T080000
END:DAYLIGHT
BEGIN:STANDARD
TZOFFSETFROM:-0500
TZOFFSETTO:-0600
TZNAME:CST
DTSTART:20261101T070000
END:STANDARD
BEGIN:DAYLIGHT
TZOFFSETFROM:-0600
TZOFFSETTO:-0500
TZNAME:CDT
DTSTART:20270314T080000
END:DAYLIGHT
BEGIN:STANDARD
TZOFFSETFROM:-0500
TZOFFSETTO:-0600
TZNAME:CST
DTSTART:20271107T070000
END:STANDARD
END:VTIMEZONE
BEGIN:VEVENT
DTSTART;TZID=America/Chicago:20260827T180000
DTEND;TZID=America/Chicago:20260827T200000
DTSTAMP:20260422T054045
CREATED:20260416T025737Z
LAST-MODIFIED:20260416T182404Z
UID:3355-1787853600-1787860800@thebendwi.org
SUMMARY:Justice League (2017 PG13)
DESCRIPTION:Steppenwolf and his legions of Parademons attempt to take over the Earth using the combined energies of the three Mother Boxes. The attempt is foiled by a unified alliance including the Olympian Gods\, Amazons\, Atlanteans\, humanity\, and extraterrestrial beings. The Mother Boxes are separated and hidden in different locations. Thousands of years later\, Superman’s death following the battle with Doomsday reactivates the Boxes\, attracting Steppenwolf again to Earth. He aims to gather the Boxes to form “The Unity”\, which would instantly devastate Earth and terraform it into a copy of his homeworld. \nSteppenwolf retrieves one Mother Box from Themyscira\, prompting Queen Hippolyta to warn her daughter Diana. Diana joins Bruce Wayne in an attempt to unite other metahumans to their cause: Wayne goes after Arthur Curry and Barry Allen\, while Diana locates Victor Stone. Bruce fails to persuade Arthur but finds Barry enthusiastic. Victor joins after his father Silas and other S.T.A.R. Labs employees are kidnapped by Steppenwolf\, who is seeking the Mother Box protected by humanity.
URL:https://thebendwi.org/event/justice-league-2017-pg13/
CATEGORIES:Movies
ATTACH;FMTTYPE=image/jpeg:https://thebendwi.org/wp-content/uploads/2026/04/Movies-2026-WordPress16.jpg
END:VEVENT
END:VCALENDAR