BEGIN:VCALENDAR
VERSION:2.0
PRODID:-//The Bend Theater | West Bend, WI - ECPv6.15.17.1//NONSGML v1.0//EN
CALSCALE:GREGORIAN
METHOD:PUBLISH
X-WR-CALNAME:The Bend Theater | West Bend, WI
X-ORIGINAL-URL:https://thebendwi.org
X-WR-CALDESC:Events for The Bend Theater | West Bend, WI
REFRESH-INTERVAL;VALUE=DURATION:PT1H
X-Robots-Tag:noindex
X-PUBLISHED-TTL:PT1H
BEGIN:VTIMEZONE
TZID:America/Chicago
BEGIN:DAYLIGHT
TZOFFSETFROM:-0600
TZOFFSETTO:-0500
TZNAME:CDT
DTSTART:20250309T080000
END:DAYLIGHT
BEGIN:STANDARD
TZOFFSETFROM:-0500
TZOFFSETTO:-0600
TZNAME:CST
DTSTART:20251102T070000
END:STANDARD
BEGIN:DAYLIGHT
TZOFFSETFROM:-0600
TZOFFSETTO:-0500
TZNAME:CDT
DTSTART:20260308T080000
END:DAYLIGHT
BEGIN:STANDARD
TZOFFSETFROM:-0500
TZOFFSETTO:-0600
TZNAME:CST
DTSTART:20261101T070000
END:STANDARD
BEGIN:DAYLIGHT
TZOFFSETFROM:-0600
TZOFFSETTO:-0500
TZNAME:CDT
DTSTART:20270314T080000
END:DAYLIGHT
BEGIN:STANDARD
TZOFFSETFROM:-0500
TZOFFSETTO:-0600
TZNAME:CST
DTSTART:20271107T070000
END:STANDARD
END:VTIMEZONE
BEGIN:VEVENT
DTSTART;TZID=America/Chicago:20260131T193000
DTEND;TZID=America/Chicago:20260131T220000
DTSTAMP:20260425T124851
CREATED:20251113T185317Z
LAST-MODIFIED:20260111T021136Z
UID:3082-1769887800-1769896800@thebendwi.org
SUMMARY:Joe 2.0
DESCRIPTION:JOE 2.0 was founded in Milwaukee\, Wisconsin in 2011\, by violinist\, Joseph Ketchum.JOE 2.0 was formed to see if a string quartet could playrock and pop music in a powerful and non-lame way.JOE 2.0 is comprised of an electrified string quartet (2 Violins\, Viola\, and Cello)\,plus drums and the inimitable vocals of original “Cheap Trick” lead singer\, Xeno. \nJOE 2.0 uses painstakingly crafted analogue effects on the strings to emulate the sounds ofelectric guitar\, keyboards\, bass\, horns\, and other things.JOE 2.0 blends these sounds with the natural sound of the strings\,creating a rock/pop sound with a symphonic power to it.It’s like a rock band and orchestra had a baby\, and they called it “JOE 2.0”. \nPlease note all ticket sales are final.
URL:https://thebendwi.org/event/joe-2-0/
CATEGORIES:Featured,Live Events
ATTACH;FMTTYPE=image/jpeg:https://thebendwi.org/wp-content/uploads/2025/11/Joe20-WordPress-1.jpg
END:VEVENT
END:VCALENDAR