BEGIN:VCALENDAR
VERSION:2.0
PRODID:-//The Bend Theater | West Bend, WI - ECPv6.15.17.1//NONSGML v1.0//EN
CALSCALE:GREGORIAN
METHOD:PUBLISH
X-ORIGINAL-URL:https://thebendwi.org
X-WR-CALDESC:Events for The Bend Theater | West Bend, WI
REFRESH-INTERVAL;VALUE=DURATION:PT1H
X-Robots-Tag:noindex
X-PUBLISHED-TTL:PT1H
BEGIN:VTIMEZONE
TZID:America/Chicago
BEGIN:DAYLIGHT
TZOFFSETFROM:-0600
TZOFFSETTO:-0500
TZNAME:CDT
DTSTART:20240310T080000
END:DAYLIGHT
BEGIN:STANDARD
TZOFFSETFROM:-0500
TZOFFSETTO:-0600
TZNAME:CST
DTSTART:20241103T070000
END:STANDARD
BEGIN:DAYLIGHT
TZOFFSETFROM:-0600
TZOFFSETTO:-0500
TZNAME:CDT
DTSTART:20250309T080000
END:DAYLIGHT
BEGIN:STANDARD
TZOFFSETFROM:-0500
TZOFFSETTO:-0600
TZNAME:CST
DTSTART:20251102T070000
END:STANDARD
BEGIN:DAYLIGHT
TZOFFSETFROM:-0600
TZOFFSETTO:-0500
TZNAME:CDT
DTSTART:20260308T080000
END:DAYLIGHT
BEGIN:STANDARD
TZOFFSETFROM:-0500
TZOFFSETTO:-0600
TZNAME:CST
DTSTART:20261101T070000
END:STANDARD
END:VTIMEZONE
BEGIN:VEVENT
DTSTART;TZID=America/Chicago:20251113T190000
DTEND;TZID=America/Chicago:20251113T210000
DTSTAMP:20260425T183623
CREATED:20250812T155902Z
LAST-MODIFIED:20251113T155117Z
UID:2936-1763060400-1763067600@thebendwi.org
SUMMARY:ORIGINS - A Fresh Singer-Songwriter Series - Nov 13 - Jessica Koth
DESCRIPTION:ORIGINS – A Fresh Singer-Songwriter Series\nSeptember 11th through November 13th\nNovember 13 – Jessica Koth \nJess and the Bend Theater have partnered to organize a food and monetary donation drive to benefit Full Shelf Food Pantry! Bring non-perishable food items or monetary donations and up to $500 of all monetary donations will be matched! \nJessica Koth\, lead singer of the Spicy Tie Band\, brings her powerful vocals and commanding stage presence to The Bend Theater on November 13th to finish out the free ORIGINS Concert Series. With a wide-ranging voice and a talent for turning songs into high-energy live moments\, Jessica consistently delivers performances that get the room moving. A regular on the West Bend music scene\, she frequently collaborates with local musicians and helps showcase the area’s growing singer-songwriter community. \nYour host for the night is our very own Joe Polizzi! FREE Event! No ticket required!\nShow begins at 7pm. Doors open at 6:30pm! \nHundreds of FREE parking spots and great restaurants lining Main Street and surrounding area! We’ll see you soon!\n 
URL:https://thebendwi.org/event/origins-a-fresh-singer-songwriter-series-nov13-jessicakoth/
CATEGORIES:Featured,Free,Live Events,Open House
ATTACH;FMTTYPE=image/jpeg:https://thebendwi.org/wp-content/uploads/2025/08/ORIGINS-WordPress-Full9.jpg
END:VEVENT
END:VCALENDAR