BEGIN:VCALENDAR
VERSION:2.0
PRODID:-//The Bend Theater | West Bend, WI - ECPv6.15.17.1//NONSGML v1.0//EN
CALSCALE:GREGORIAN
METHOD:PUBLISH
X-WR-CALNAME:The Bend Theater | West Bend, WI
X-ORIGINAL-URL:https://thebendwi.org
X-WR-CALDESC:Events for The Bend Theater | West Bend, WI
REFRESH-INTERVAL;VALUE=DURATION:PT1H
X-Robots-Tag:noindex
X-PUBLISHED-TTL:PT1H
BEGIN:VTIMEZONE
TZID:America/Chicago
BEGIN:DAYLIGHT
TZOFFSETFROM:-0600
TZOFFSETTO:-0500
TZNAME:CDT
DTSTART:20240310T080000
END:DAYLIGHT
BEGIN:STANDARD
TZOFFSETFROM:-0500
TZOFFSETTO:-0600
TZNAME:CST
DTSTART:20241103T070000
END:STANDARD
BEGIN:DAYLIGHT
TZOFFSETFROM:-0600
TZOFFSETTO:-0500
TZNAME:CDT
DTSTART:20250309T080000
END:DAYLIGHT
BEGIN:STANDARD
TZOFFSETFROM:-0500
TZOFFSETTO:-0600
TZNAME:CST
DTSTART:20251102T070000
END:STANDARD
BEGIN:DAYLIGHT
TZOFFSETFROM:-0600
TZOFFSETTO:-0500
TZNAME:CDT
DTSTART:20260308T080000
END:DAYLIGHT
BEGIN:STANDARD
TZOFFSETFROM:-0500
TZOFFSETTO:-0600
TZNAME:CST
DTSTART:20261101T070000
END:STANDARD
END:VTIMEZONE
BEGIN:VEVENT
DTSTART;TZID=America/Chicago:20250813T193000
DTEND;TZID=America/Chicago:20250813T220000
DTSTAMP:20260422T210407
CREATED:20250307T175458Z
LAST-MODIFIED:20250623T205905Z
UID:2742-1755113400-1755122400@thebendwi.org
SUMMARY:Radio Gaga: The Concert That Never Was! 2025
DESCRIPTION:THE HAUS OF GAGA MEETS THE MAJESTY OF QUEEN IN RADIO GAGA\, THE EPIC TRIBUTE THAT TRANSCENDS GENERATIONS. \nThe only concert where you will hear all the hits of Queen and Lady Gaga in this Vegas-style production show\, complete with eye-popping costuming\, dazzling choreography\, and unmatched showmanship. Prepare to be wowed as the vision and spirit of these performers emanates from the stage\, delivering the “Concert That Never Was”! \nRADIO GAGA IS A HIGH-OCTANE\, ONE-OF-A-KIND THEATRICAL PRODUCTION FEATURING TWO OF THE WORLD’S MOST REVOLUTIONARY MUSICAL ICONS.\nRadio Gaga is the first production of its kind! Audiences experience outstanding vocals\, precise choreography\, exciting participation opportunities\, and to top it all off\, viewers of all ages are welcome! You can find Radio Gaga touring all over the Chicago-land and Midwest area. \nDisclaimer: Dancing is permitted during all shows at The Bend Theater. By attending\, you acknowledge that audience members may stand\, move\, and dance during performances. Enjoy the music and embrace the energy!
URL:https://thebendwi.org/event/radio-gaga-the-concert-that-never-was-2025/
CATEGORIES:Featured,Live Events
ATTACH;FMTTYPE=image/jpeg:https://thebendwi.org/wp-content/uploads/2025/03/Radio-Gaga-WordPress.jpg
END:VEVENT
END:VCALENDAR