BEGIN:VCALENDAR
VERSION:2.0
PRODID:-//The Bend Theater | West Bend, WI - ECPv6.15.17.1//NONSGML v1.0//EN
CALSCALE:GREGORIAN
METHOD:PUBLISH
X-ORIGINAL-URL:https://thebendwi.org
X-WR-CALDESC:Events for The Bend Theater | West Bend, WI
REFRESH-INTERVAL;VALUE=DURATION:PT1H
X-Robots-Tag:noindex
X-PUBLISHED-TTL:PT1H
BEGIN:VTIMEZONE
TZID:America/Chicago
BEGIN:DAYLIGHT
TZOFFSETFROM:-0600
TZOFFSETTO:-0500
TZNAME:CDT
DTSTART:20240310T080000
END:DAYLIGHT
BEGIN:STANDARD
TZOFFSETFROM:-0500
TZOFFSETTO:-0600
TZNAME:CST
DTSTART:20241103T070000
END:STANDARD
BEGIN:DAYLIGHT
TZOFFSETFROM:-0600
TZOFFSETTO:-0500
TZNAME:CDT
DTSTART:20250309T080000
END:DAYLIGHT
BEGIN:STANDARD
TZOFFSETFROM:-0500
TZOFFSETTO:-0600
TZNAME:CST
DTSTART:20251102T070000
END:STANDARD
BEGIN:DAYLIGHT
TZOFFSETFROM:-0600
TZOFFSETTO:-0500
TZNAME:CDT
DTSTART:20260308T080000
END:DAYLIGHT
BEGIN:STANDARD
TZOFFSETFROM:-0500
TZOFFSETTO:-0600
TZNAME:CST
DTSTART:20261101T070000
END:STANDARD
END:VTIMEZONE
BEGIN:VEVENT
DTSTART;TZID=America/Chicago:20250518T133000
DTEND;TZID=America/Chicago:20250518T143000
DTSTAMP:20260422T162207
CREATED:20250504T023251Z
LAST-MODIFIED:20250509T183854Z
UID:2811-1747575000-1747578600@thebendwi.org
SUMMARY:In the Garden with The Gutekunst Flute Choir
DESCRIPTION:The Gutekunst Flute Choir presents “In the Garden”\n\nin honor of Roots & Branches Annual Spring Plant Sale\nPresented by The Bend Theater in partnership with The Gutekunst Flute Choir \nFree Event to the Community \n“In 2002\, a small group of flute players began playing music together. That group evolved into a flute choir based in Milwaukee\, Wisconsin. Adding flutists over time to reach their present size of 15 members\, this local organization performs at public and private venues throughout southeastern Wisconsin. The group adopted its current name after Ms. Gutekunst\, a founder\,  sadly passed away in 2010. Members feel her name\, which means “Good Art” in German\, is a fitting tribute to the talented musician and friend they lost. The group loves to make beautiful music in her memory.” \nFor more information about The Gutekunst Flute Choir\, visit gutekunstflute.com
URL:https://thebendwi.org/event/in-the-garden-with-the-gutekunst-flute-choir/
CATEGORIES:Featured,Free,Live Events
ATTACH;FMTTYPE=image/jpeg:https://thebendwi.org/wp-content/uploads/2025/05/Gutekunst-Flute-Choir-WordPress.jpg
END:VEVENT
END:VCALENDAR