BEGIN:VCALENDAR
VERSION:2.0
PRODID:-//The Bend Theater | West Bend, WI - ECPv6.15.17.1//NONSGML v1.0//EN
CALSCALE:GREGORIAN
METHOD:PUBLISH
X-ORIGINAL-URL:https://thebendwi.org
X-WR-CALDESC:Events for The Bend Theater | West Bend, WI
REFRESH-INTERVAL;VALUE=DURATION:PT1H
X-Robots-Tag:noindex
X-PUBLISHED-TTL:PT1H
BEGIN:VTIMEZONE
TZID:America/Chicago
BEGIN:DAYLIGHT
TZOFFSETFROM:-0600
TZOFFSETTO:-0500
TZNAME:CDT
DTSTART:20240310T080000
END:DAYLIGHT
BEGIN:STANDARD
TZOFFSETFROM:-0500
TZOFFSETTO:-0600
TZNAME:CST
DTSTART:20241103T070000
END:STANDARD
BEGIN:DAYLIGHT
TZOFFSETFROM:-0600
TZOFFSETTO:-0500
TZNAME:CDT
DTSTART:20250309T080000
END:DAYLIGHT
BEGIN:STANDARD
TZOFFSETFROM:-0500
TZOFFSETTO:-0600
TZNAME:CST
DTSTART:20251102T070000
END:STANDARD
BEGIN:DAYLIGHT
TZOFFSETFROM:-0600
TZOFFSETTO:-0500
TZNAME:CDT
DTSTART:20260308T080000
END:DAYLIGHT
BEGIN:STANDARD
TZOFFSETFROM:-0500
TZOFFSETTO:-0600
TZNAME:CST
DTSTART:20261101T070000
END:STANDARD
END:VTIMEZONE
BEGIN:VEVENT
DTSTART;TZID=America/Chicago:20250507T173000
DTEND;TZID=America/Chicago:20250507T210000
DTSTAMP:20260422T162050
CREATED:20250310T200044Z
LAST-MODIFIED:20250507T152042Z
UID:2746-1746639000-1746651600@thebendwi.org
SUMMARY:Rêve Bleu Charity Soirée
DESCRIPTION:Rêve Bleu Charity Soirée\n3rd Annual Blue Lotus Center Benefit Concert\nJoin us for a night of live music\, fun\, and fellowship as we listen to the pizzazz and jazzy sounds of multi-faceted songstress Robin Pluer and soulful singer\, Freddy Bliffert. \nRobin is an award-winning artist who has been a perennial in the Wisconsin Music Industry for the past 20+ years. She’s performed and composed music with John Sieger and the R& B Cadets\, Paul Cebar and the Milwaukeeans\, and Peter Buffet. Wherever she performs\, Robin Pluer captivates her audiences with the sounds of R & B and flirtatious melodies of French oldies that will strike your inner soul. \nSoulful sounds? When Fred Bliffert heard his first lullaby\, he instinctively knew it wasn’t music if it didn’t have a soul. Many of Fred’s early music influences had gospel roots – Sam Cooke\, Curtis Mayfield\, Aretha Franklin\, Otis Redding\, and Marvin Gaye. Yet\, he always rocks the room like a heavy metal idol\, drops R&B that would get James Brown’s attention\, and croons a ballad that makes the audience forget Frank Sinatra.  His three great gifts are a connection to the music\, a voice that glorifies that connection\, and his overwhelming sense of joy. \nThe duo will be accompanied by the incredible Chris Hanson Band. Chris and his bandmates have been on the Milwaukee music scene for years\, with roots in the Milwaukee Symphony\, Bluegrass\, Rock\, and Jazz. \nThis combination of musical talent will surely get music lovers dancing in their seats for a great cause! \nDisclaimer: Dancing is permitted during all shows at The Bend Theater. By attending\, you acknowledge that audience members may stand\, move\, and dance during performances. Enjoy the music and embrace the energy!
URL:https://thebendwi.org/event/reve-bleu-charity-soiree/
CATEGORIES:Live Events
ATTACH;FMTTYPE=image/jpeg:https://thebendwi.org/wp-content/uploads/2025/03/Blue-Lotus-at-The-Bend-Theater.jpg
END:VEVENT
END:VCALENDAR