BEGIN:VCALENDAR
VERSION:2.0
PRODID:-//The Bend Theater | West Bend, WI - ECPv6.15.17.1//NONSGML v1.0//EN
CALSCALE:GREGORIAN
METHOD:PUBLISH
X-ORIGINAL-URL:https://thebendwi.org
X-WR-CALDESC:Events for The Bend Theater | West Bend, WI
REFRESH-INTERVAL;VALUE=DURATION:PT1H
X-Robots-Tag:noindex
X-PUBLISHED-TTL:PT1H
BEGIN:VTIMEZONE
TZID:America/Chicago
BEGIN:DAYLIGHT
TZOFFSETFROM:-0600
TZOFFSETTO:-0500
TZNAME:CDT
DTSTART:20240310T080000
END:DAYLIGHT
BEGIN:STANDARD
TZOFFSETFROM:-0500
TZOFFSETTO:-0600
TZNAME:CST
DTSTART:20241103T070000
END:STANDARD
BEGIN:DAYLIGHT
TZOFFSETFROM:-0600
TZOFFSETTO:-0500
TZNAME:CDT
DTSTART:20250309T080000
END:DAYLIGHT
BEGIN:STANDARD
TZOFFSETFROM:-0500
TZOFFSETTO:-0600
TZNAME:CST
DTSTART:20251102T070000
END:STANDARD
BEGIN:DAYLIGHT
TZOFFSETFROM:-0600
TZOFFSETTO:-0500
TZNAME:CDT
DTSTART:20260308T080000
END:DAYLIGHT
BEGIN:STANDARD
TZOFFSETFROM:-0500
TZOFFSETTO:-0600
TZNAME:CST
DTSTART:20261101T070000
END:STANDARD
END:VTIMEZONE
BEGIN:VEVENT
DTSTART;TZID=America/Chicago:20250314T193000
DTEND;TZID=America/Chicago:20250314T220000
DTSTAMP:20260424T090030
CREATED:20241215T025519Z
LAST-MODIFIED:20250221T203347Z
UID:2629-1741980600-1741989600@thebendwi.org
SUMMARY:Respect! A Tribute to the Queen of Soul - Aretha Franklin
DESCRIPTION:Respect! A Tribute to the Queen of Soul – Aretha Franklin\nExperience the Unforgettable Magic of Aretha Franklin’s Iconic Hits Live! \nA Spectacular Musical Journey Celebrating the Legendary Queen’s Timeless Legacy.\n  \nRespect! A Tribute to The Queen of Soul\, Aretha Franklin features a 10 piece orchestra fronted by the incomparable Da’Quela “Cookie” Payne. Her melodic voice is sure to take you on an emotional journey\, as she puts her heart and soul into each note she sings. Crowned the most gifted Christian singer in America back in 2007 for a reality singing competition called “Gifted.” This victory earned her a major recording contract with EMI Gospel. Pushing her to audition for American Idol in 2011 where she went on to advance all the way to Hollywood where she made the top 100.
URL:https://thebendwi.org/event/respect-a-tribute-to-the-queen-of-soul-aretha-franklin/
CATEGORIES:Featured,Live Events
ATTACH;FMTTYPE=image/jpeg:https://thebendwi.org/wp-content/uploads/2024/12/Respect-Live-at-The-Bend-Theater.jpg
END:VEVENT
END:VCALENDAR