BEGIN:VCALENDAR
VERSION:2.0
PRODID:-//The Bend Theater | West Bend, WI - ECPv6.15.17.1//NONSGML v1.0//EN
CALSCALE:GREGORIAN
METHOD:PUBLISH
X-ORIGINAL-URL:https://thebendwi.org
X-WR-CALDESC:Events for The Bend Theater | West Bend, WI
REFRESH-INTERVAL;VALUE=DURATION:PT1H
X-Robots-Tag:noindex
X-PUBLISHED-TTL:PT1H
BEGIN:VTIMEZONE
TZID:America/Chicago
BEGIN:DAYLIGHT
TZOFFSETFROM:-0600
TZOFFSETTO:-0500
TZNAME:CDT
DTSTART:20250309T080000
END:DAYLIGHT
BEGIN:STANDARD
TZOFFSETFROM:-0500
TZOFFSETTO:-0600
TZNAME:CST
DTSTART:20251102T070000
END:STANDARD
BEGIN:DAYLIGHT
TZOFFSETFROM:-0600
TZOFFSETTO:-0500
TZNAME:CDT
DTSTART:20260308T080000
END:DAYLIGHT
BEGIN:STANDARD
TZOFFSETFROM:-0500
TZOFFSETTO:-0600
TZNAME:CST
DTSTART:20261101T070000
END:STANDARD
BEGIN:DAYLIGHT
TZOFFSETFROM:-0600
TZOFFSETTO:-0500
TZNAME:CDT
DTSTART:20270314T080000
END:DAYLIGHT
BEGIN:STANDARD
TZOFFSETFROM:-0500
TZOFFSETTO:-0600
TZNAME:CST
DTSTART:20271107T070000
END:STANDARD
END:VTIMEZONE
BEGIN:VEVENT
DTSTART;TZID=America/Chicago:20260212T190000
DTEND;TZID=America/Chicago:20260212T210000
DTSTAMP:20260421T065054
CREATED:20260127T195452Z
LAST-MODIFIED:20260201T200905Z
UID:3197-1770922800-1770930000@thebendwi.org
SUMMARY:West Bend Power Playoff Push Campaign with Judson Brown Band
DESCRIPTION:Join us at The Bend Theater on February 12th for a stellar performance by the one and only Judson Brown Band. Judson is an former original member and vocalist of Bella Cain\, live and on The Bend Theater stage for the 1st time! \nPOWER PLAYOFF PUSH – HELP US GET TO THE FRASER CUP IN ST. LOUIS! The West Bend Power has officially clinched first place in the Central Division and secured a spot in the Fraser Cup Playoffs! With high expectations and momentum on our side\, we are working toward a third consecutive trip to the Fraser Cup in St. Louis. \nOur players put in countless hours both on and off the ice—dedicating themselves not only to hockey\, but also to serving our community. While they already pay tuition to play\, players are responsible for covering playoff-related expenses. Each round of playoffs costs thousands of dollars for bus travel\, hotels\, and meals\, and a full trip to the Fraser Cup is expected to exceed $30\,000 for the six-day event. \nWe are asking for your support through our Playoff Push Campaign to help offset these costs. Every ticket sold will be applied directly to player funds and helps ensure our team can focus on competing at the highest level! \nIf you have questions or would like additional information\, please contact kris@westbendhockey.com.Thank you for supporting our players and helping make this playoff run possible! \nPlease note all ticket sales are final.
URL:https://thebendwi.org/event/west-bend-power-playoff-push-campaign-with-judson-brown-band/
CATEGORIES:Featured,Live Events
ATTACH;FMTTYPE=image/jpeg:https://thebendwi.org/wp-content/uploads/2026/01/Judson-Brown-Band-WordPress.jpg
END:VEVENT
BEGIN:VEVENT
DTSTART;TZID=America/Chicago:20260213T193000
DTEND;TZID=America/Chicago:20260213T220000
DTSTAMP:20260421T065054
CREATED:20251118T175034Z
LAST-MODIFIED:20260121T023643Z
UID:3096-1771011000-1771020000@thebendwi.org
SUMMARY:Petty Things: A Salute to All Things Tom Petty 2026
DESCRIPTION:Petty Things: Wisconsin’s Premier Tom Petty Tribute Band\nwith special guest BD Greer as Stevie Nicks\nSOLD OUT!\nPetty Things is a Wisconsin-based tribute band dedicated to honoring the legendary music of Tom Petty and The Heartbreakers.  The band’s mission is simple: to faithfully recreate the sound\, spirit\, and energy of one of rock music’s most beloved acts\, delivering an authentic musical experience that transports audiences back to the golden era of rock ‘n’ roll. \nWith attention to detail and a deep respect for Tom Petty’s legacy\, Petty Things has become a standout tribute act\, captivating audiences with every performance across the midwest. \nTom Petty’s music has always transcended genres\, blending rock\, folk\, blues\, and pop with a distinct sense of authenticity. For Petty Things\, recreating this magic goes beyond just playing the notes—they channel the heart and soul that made Tom Petty and The Heartbreakers so special. \nWith a setlist packed full of hits like “Free Fallin’\,” “American Girl\,” “Refugee\,” and “Runnin’ Down a Dream\,” the band delivers a concert experience that pays homage to Petty’s ability to craft timeless\, sing-along anthems while also tapping into deep cuts for the diehard fans. \nThe Band \nPetty Things brings together a stellar lineup of seasoned Wisconsin musicians\, each with a deep-rooted passion for Tom Petty’s music. Their collective talent and chemistry on stage make them more than just a cover band—they embody the true essence of Petty’s sound. \nGeoff Landon – Lead Vocals\nFrontman and four-time WAMI Award winner Geoff Landon brings Tom Petty’s unmistakable vocal style to life with incredible accuracy. Known for his dynamic stage presence and powerful voice\, Landon has been captivating audiences for years as a solo artist and fronting various bands across the Midwest. His love for Tom Petty’s music runs deep\, and his dedication to replicating Petty’s laid-back yet commanding vocal delivery is the driving force behind Petty Things’ success. Geoff’s natural charisma and stage energy make him the perfect fit for this tribute\, ensuring that every performance is filled with the passion that Petty himself exuded. In addition to Petty Things\, he can currently be found playing across Wisconsin with Geoff Landon’s High Country and Still Reckless. \nPat Stillman – Lead Guitar\nPat Stillman delivers the signature guitar riffs and solos that Mike Campbell made famous with The Heartbreakers. As the lead guitarist for Petty Things\, Stillman masterfully replicates Campbell’s understated yet iconic style. A veteran of the Wisconsin music scene\, Stillman’s playing is both soulful and electrifying\, giving fans the unmistakable sound of Petty’s catalog\, from “American Girl” to “Runnin’ Down a Dream.” Stillman’s dedication to capturing Campbell’s unique blend of rock and blues shines through in every performance. When not in Petty Things\, he can be found playing jazz (The Swingin’ Royals)\, soul (Minor Worries)\, and funk (FBI and the Untouchable Horns) every week across Wisconsin. \nChris Okkerse – Bass Guitar\nHolding down the low end is Chris Okkerse\, a versatile musician who flawlessly channels the groove and backing vocals of Heartbreakers’ bassist Howie Epstein (Epstein himself was a Wisconsin native). Whether it’s the driving pulse of “You Wreck Me” or the subtle groove of “Don’t Do Me Like That”\, Okkerse delivers the steady\, reliable bass lines that Petty’s music demands. Chris also plays guitar in his music duo\, The Cheese Doodles\, solo acoustic shows\, and is bassist for the popular country group\, Chasin’ Mason. \nTerry Michaels – Keyboards\nOn keyboards\, Terry Michaels adds texture and layers to the band’s sound\, bringing to life the atmospheric elements that Benmont Tench contributed to The Heartbreakers. From the signature piano in “Good to Be King” to the screaming Hammond organ in “Refugee\,” Michaels’ playing is both versatile and expressive. A veteran keyboardist\, Michaels skillfully replicates the rich\, multi-dimensional soundscapes that made The Heartbreakers’ music so timeless. Outside of Petty Things\, Terry can be found playing keys with his original prog rock band\, Lyndenthal. \nErik Holmes – Drums\nErik Holmes drives the rhythm section with precision and energy\, expertly recreating the drumming style of Stan Lynch and Steve Ferrone. Holmes’ ability to switch seamlessly between the tight\, punchy beats of Petty’s rock anthems and the more subtle\, nuanced grooves of their ballads makes him an integral part of Petty Things. Erik is a sought after drum instructor and can also be found playing drums with Geoff Landon’s High Country. \nWith Special Guest BD Greer as Stevie Nicks\nAdding an extra layer of magic to Petty Things is BD Greer\, who brings the presence of Stevie Nicks to the stage\, performing hits like “Stop Draggin’ My Heart Around” with Geoff Landon\, as well as a few select Fleetwood Mac tunes. Greer’s background as one of Wisconsin’s most acclaimed jazz singers helps her beautifully capture Nicks’ signature raspy tone\, and her chemistry with Landon brings the spirit of their iconic collaboration to life. \nTogether\, Petty Things delivers an unforgettable live experience that pays homage to the legacy of Tom Petty and The Heartbreakers. The band brings passion\, authenticity\, and love for the music\, making each show a celebration of Petty’s enduring impact on rock and roll. \nPlease note all ticket sales are final.
URL:https://thebendwi.org/event/petty-things-a-salute-to-all-things-tom-petty-2025/
CATEGORIES:Featured,Live Events
ATTACH;FMTTYPE=image/jpeg:https://thebendwi.org/wp-content/uploads/2025/11/Petty-Things-WordPress-3.jpg
END:VEVENT
BEGIN:VEVENT
DTSTART;TZID=America/Chicago:20260214T193000
DTEND;TZID=America/Chicago:20260214T220000
DTSTAMP:20260421T065054
CREATED:20251120T204345Z
LAST-MODIFIED:20260121T023733Z
UID:3098-1771097400-1771106400@thebendwi.org
SUMMARY:Gin\, Chocolate & Bottle Rockets
DESCRIPTION:Gin\, Chocolate & Bottle Rockets\nA Tribute to the Trio – Dolly\, Linda & Emmylou!\nGin\, Chocolate & Bottle Rockets combines the musical styles of three solo-artists-turned-bandmates. Hailing from Southern Wisconsin\, Jen Farley\, Shawndell Marks and Beth Kille blend their voices into sublime 3-part harmonies\, backed by Marks on keyboard\, accordion and bass\, Kille on guitar and mandolin and Farley on percussion. With natural musical chemistry\, GCBR shares a bond in spirit and genuine passion for performance. The Indie Pop/Singer-Songwriter trio delivers powerhouse harmonies reminiscent of Wilson Phillips\, The Wailin’ Jennys\, and the legendary supergroup of Dolly\, Emmylou and Linda. Individually\, these performers have collected numerous musical accolades across multiple genres. \nThe Madison Area Music Association (MAMA) has recognized both Marks and Kille with Female Vocalist of the Year honors\, and Farley’s powerhouse singing netted GCBR the Blues Song of the Year honors for their original tune “Flash Flood” in 2019. They were collectively honored with the 2015\, 2017\, 2020\, 2021 and 2023 MAMA Award for Ensemble Vocalists of the Year and have been inducted into the Hall of Fame now that they’ve amassed five wins in this category. Their sophomore album\, “Lean” was released on May 31st\, 2018\, and won Folk/American Album of the Year at the 2019 MAMA Awards. Their shows appeal to anyone who enjoys songs that dig beneath the surface of love\, life and self-discovery. \nPlease note all ticket sales are final.
URL:https://thebendwi.org/event/gin-chocolate-bottle-rockets/
CATEGORIES:Featured,Live Events
ATTACH;FMTTYPE=image/jpeg:https://thebendwi.org/wp-content/uploads/2025/11/Gin-Chocolate-Bottlerockets-WordPress-1.jpg
END:VEVENT
BEGIN:VEVENT
DTSTART;TZID=America/Chicago:20260220T193000
DTEND;TZID=America/Chicago:20260220T220000
DTSTAMP:20260421T065054
CREATED:20251228T001415Z
LAST-MODIFIED:20260214T003804Z
UID:3140-1771615800-1771624800@thebendwi.org
SUMMARY:Johnny Wad
DESCRIPTION:Johnny Wad\nSponsored by West Bend Elevator\nGet ready for a full throttle rock & roll party when Johnny Wad takes the stage at the Bend Theater in West Bend\, Wisconsin. \nKnown across the Midwest for explosive live shows\, massive sing along anthems\, and a setlist packed with crowd favorite rock hits from the ’80s\, ’90s\, and beyond\, Johnny Wad delivers the kind of night that turns a concert into a memory. From fist pumping choruses to throw your hands up guitar solos\, this is high energy rock done right. \nWhether you’re reliving the glory days or discovering why Johnny Wad has built such a loyal following\, expect big hooks\, big energy\, and a packed dance floor from the first song to the last encore. \nOne band. One night. No sitting still. \nJohnny Wad at the Bend Theater…this is how West Bend rocks. \nPlease note all ticket sales are final.
URL:https://thebendwi.org/event/johnny-wad/
CATEGORIES:Featured,Live Events
ATTACH;FMTTYPE=image/jpeg:https://thebendwi.org/wp-content/uploads/2025/12/JohnnyWad-WordPress-1.jpg
END:VEVENT
BEGIN:VEVENT
DTSTART;TZID=America/Chicago:20260227T193000
DTEND;TZID=America/Chicago:20260227T220000
DTSTAMP:20260421T065054
CREATED:20251124T232330Z
LAST-MODIFIED:20260201T201014Z
UID:3104-1772220600-1772229600@thebendwi.org
SUMMARY:Wayne Baker Brooks
DESCRIPTION:Wayne Baker Brooks is considered one of today’s top guitarists whose signature style combines powerful vocals with liquid fire guitar playing that honors his rich blues heritage yet effortlessly expands the boundaries of the genre. \nBorn and raised in Chicago\, IL amongst the most prolific blues legends and blues masters in the world\, Wayne Baker Brook’s blues roots may run deeper and wider than the Great Lakes themselves. \nChicago Blues laid the foundation for Wayne’s innovative style. Growing up Brooks was a regular visitor to such historic places as Chess Studios\, Checkerboard Lounge\, Wisefools\, and many other blues landmarks at which he witnessed many live performances by blues masters like Buddy Guy\, Jr. Wells\, Luther Allison\, KoKo Taylor\, the great Muddy Waters\, & his father. The youngest son of blues master Lonnie Brooks – Wayne Brooks was literally born into the blues! \nPlease note all ticket sales are final.
URL:https://thebendwi.org/event/wayne-baker-brooks/
CATEGORIES:Featured,Live Events
ATTACH;FMTTYPE=image/jpeg:https://thebendwi.org/wp-content/uploads/2025/11/WayneBakerBrooks-WordPress.jpg
END:VEVENT
BEGIN:VEVENT
DTSTART;TZID=America/Chicago:20260228T193000
DTEND;TZID=America/Chicago:20260228T220000
DTSTAMP:20260421T065054
CREATED:20251202T185723Z
LAST-MODIFIED:20260227T134844Z
UID:3107-1772307000-1772316000@thebendwi.org
SUMMARY:Armchair Boogie
DESCRIPTION:Armchair Boogie is bluegrass at full throttle\, infused with the energy of a jam band and the swagger of rock ‘n’ roll. Hailing from Madison\, WI\, this electrifying quartet blends jamgrass\, funk\, and country into a sound that’s as infectious as it is unexpected. Known for their tight harmonies\, blistering solos\, and dance-fueled live shows\, they’ve quickly become one of the most exciting acts on the circuit. The Bluegrass Situation named them a “Must-See Roots Artist at Bourbon & Beyond\,” raving that their late-night set at the Earl Scruggs Music Festival was nothing short of a barn-burner. Mixing timeless originals with choice covers reimagined in their own style\, Armchair Boogie delivers a fresh take on every stage they hit.  \nWith Augie Dougherty on banjo\, Ben Majeska on acoustic and electric guitars\, and the locked-in rhythm section of Eli Frieders (electric bass) and Denzel Connor (drums)\, the band stretches the boundaries of bluegrass with fiery instrumentals and deep-pocket grooves. Their adventurous approach to the music keeps audiences on their feet and coming back for more. \nPlease note all ticket sales are final.
URL:https://thebendwi.org/event/armchair-boogie-3/
CATEGORIES:Featured,Live Events
ATTACH;FMTTYPE=image/jpeg:https://thebendwi.org/wp-content/uploads/2025/12/Armchair-Boogie-WordPress.jpg
END:VEVENT
END:VCALENDAR