BEGIN:VCALENDAR
VERSION:2.0
PRODID:-//The Bend Theater | West Bend, WI - ECPv6.15.17.1//NONSGML v1.0//EN
CALSCALE:GREGORIAN
METHOD:PUBLISH
X-ORIGINAL-URL:https://thebendwi.org
X-WR-CALDESC:Events for The Bend Theater | West Bend, WI
REFRESH-INTERVAL;VALUE=DURATION:PT1H
X-Robots-Tag:noindex
X-PUBLISHED-TTL:PT1H
BEGIN:VTIMEZONE
TZID:America/Chicago
BEGIN:DAYLIGHT
TZOFFSETFROM:-0600
TZOFFSETTO:-0500
TZNAME:CDT
DTSTART:20240310T080000
END:DAYLIGHT
BEGIN:STANDARD
TZOFFSETFROM:-0500
TZOFFSETTO:-0600
TZNAME:CST
DTSTART:20241103T070000
END:STANDARD
BEGIN:DAYLIGHT
TZOFFSETFROM:-0600
TZOFFSETTO:-0500
TZNAME:CDT
DTSTART:20250309T080000
END:DAYLIGHT
BEGIN:STANDARD
TZOFFSETFROM:-0500
TZOFFSETTO:-0600
TZNAME:CST
DTSTART:20251102T070000
END:STANDARD
BEGIN:DAYLIGHT
TZOFFSETFROM:-0600
TZOFFSETTO:-0500
TZNAME:CDT
DTSTART:20260308T080000
END:DAYLIGHT
BEGIN:STANDARD
TZOFFSETFROM:-0500
TZOFFSETTO:-0600
TZNAME:CST
DTSTART:20261101T070000
END:STANDARD
END:VTIMEZONE
BEGIN:VEVENT
DTSTART;TZID=America/Chicago:20250502T193000
DTEND;TZID=America/Chicago:20250502T220000
DTSTAMP:20260422T144841
CREATED:20250116T171106Z
LAST-MODIFIED:20250501T175727Z
UID:2675-1746214200-1746223200@thebendwi.org
SUMMARY:Hypnotized: The Music of Fleetwood Mac 2025
DESCRIPTION:Experience Fleetwood Mac’s timeless hits brought to life by Hypnotized: The Music of Fleetwood Mac at The Bend Theater.\nHypnotized is a tribute group performing in homage to Fleetwood Mac\, one of the bestselling rock and roll bands of all time. Evoking the spirit and sound of the 70’s\, Hypnotized performs album tracks\, deep cuts and chart topping hits from Rumours\, Tusk\, Tango In The Night\, Mirage\, Mystery To Me and more. With steady percussion\, soaring vocals and articulate guitar work akin to that of MAC’s powerhouse line up\, Hypnotized replicates the music to a tee. Prepare yourself for a night of memories brought back in song. \nHypnotized pays homage to the legendary Stevie Nicks and Fleetwood Mac\, weaving a spell that will have you saying “Don’t Stop” the music magic! \nDoors open at 6:30 PM to give you time to find your seats\, visit our historic lobby\, concession stand and fully stocked bar! \nDisclaimer: Dancing is permitted during all shows at The Bend Theater. By attending\, you acknowledge that audience members may stand\, move\, and dance during performances. Enjoy the music and embrace the energy!
URL:https://thebendwi.org/event/hypnotized-the-music-of-fleetwood-mac-2025/
CATEGORIES:Featured,Live Events
ATTACH;FMTTYPE=image/jpeg:https://thebendwi.org/wp-content/uploads/2025/01/Hypnotized-WordPress-1.jpg
END:VEVENT
BEGIN:VEVENT
DTSTART;TZID=America/Chicago:20250503T193000
DTEND;TZID=America/Chicago:20250503T220000
DTSTAMP:20260422T144841
CREATED:20241221T030809Z
LAST-MODIFIED:20250423T163252Z
UID:2641-1746300600-1746309600@thebendwi.org
SUMMARY:Chicago Farmer & The Fieldnotes
DESCRIPTION:The son of a small town farming community\, Cody Diekhoff logged plenty of highway and stage time under the name Chicago Farmer before settling in the city in 2003. Profoundly inspired by fellow midwesterner John Prine\, he’s a working-class folk musician to his core. His small town roots\, tilled with city streets mentality\, are turning heads North and South of I-80. \n“I love the energy\, music\, and creativity of Chicago\, but at the same time\, the roots and hard work of my small town\,” he shares. Growing up in Delavan\, Illinois\, with a population less than 2\,000\, Diekhoff’s grandparents were farmers\, and their values have always provided the baseline of his songs. \nChristopher Gold \nChristopher Gold is a Kentucky-born songwriter living in Wisconsin. Together with his band The New Old Things he has written and recorded folk songs\, country songs\, rock & roll songs\, and everything in between citing a love for songwriters like Townes Van Zandt\, Bob Dylan\, Tom Petty\, John Prine\, and anybody else whose work begins with paper and pen. He travels primarily as a solo act\, carrying on the folk tradition of performances that blend music\, storytelling\, and humor. \nDisclaimer: Dancing is permitted during all shows at The Bend Theater. By attending\, you acknowledge that audience members may stand\, move\, and dance during performances. Enjoy the music and embrace the energy!
URL:https://thebendwi.org/event/chicago-farmer-the-fieldnotes/
CATEGORIES:Featured,Live Events
ATTACH;FMTTYPE=image/jpeg:https://thebendwi.org/wp-content/uploads/2024/12/Chicago-Farmer-at-The-Bend-Theater-1.jpg
END:VEVENT
BEGIN:VEVENT
DTSTART;TZID=America/Chicago:20250507T173000
DTEND;TZID=America/Chicago:20250507T210000
DTSTAMP:20260422T144841
CREATED:20250310T200044Z
LAST-MODIFIED:20250507T152042Z
UID:2746-1746639000-1746651600@thebendwi.org
SUMMARY:Rêve Bleu Charity Soirée
DESCRIPTION:Rêve Bleu Charity Soirée\n3rd Annual Blue Lotus Center Benefit Concert\nJoin us for a night of live music\, fun\, and fellowship as we listen to the pizzazz and jazzy sounds of multi-faceted songstress Robin Pluer and soulful singer\, Freddy Bliffert. \nRobin is an award-winning artist who has been a perennial in the Wisconsin Music Industry for the past 20+ years. She’s performed and composed music with John Sieger and the R& B Cadets\, Paul Cebar and the Milwaukeeans\, and Peter Buffet. Wherever she performs\, Robin Pluer captivates her audiences with the sounds of R & B and flirtatious melodies of French oldies that will strike your inner soul. \nSoulful sounds? When Fred Bliffert heard his first lullaby\, he instinctively knew it wasn’t music if it didn’t have a soul. Many of Fred’s early music influences had gospel roots – Sam Cooke\, Curtis Mayfield\, Aretha Franklin\, Otis Redding\, and Marvin Gaye. Yet\, he always rocks the room like a heavy metal idol\, drops R&B that would get James Brown’s attention\, and croons a ballad that makes the audience forget Frank Sinatra.  His three great gifts are a connection to the music\, a voice that glorifies that connection\, and his overwhelming sense of joy. \nThe duo will be accompanied by the incredible Chris Hanson Band. Chris and his bandmates have been on the Milwaukee music scene for years\, with roots in the Milwaukee Symphony\, Bluegrass\, Rock\, and Jazz. \nThis combination of musical talent will surely get music lovers dancing in their seats for a great cause! \nDisclaimer: Dancing is permitted during all shows at The Bend Theater. By attending\, you acknowledge that audience members may stand\, move\, and dance during performances. Enjoy the music and embrace the energy!
URL:https://thebendwi.org/event/reve-bleu-charity-soiree/
CATEGORIES:Live Events
ATTACH;FMTTYPE=image/jpeg:https://thebendwi.org/wp-content/uploads/2025/03/Blue-Lotus-at-The-Bend-Theater.jpg
END:VEVENT
BEGIN:VEVENT
DTSTART;TZID=America/Chicago:20250517T193000
DTEND;TZID=America/Chicago:20250517T220000
DTSTAMP:20260422T144841
CREATED:20250224T230122Z
LAST-MODIFIED:20250427T014822Z
UID:2722-1747510200-1747519200@thebendwi.org
SUMMARY:Steely Dane 2025
DESCRIPTION:STEELY DANE\nTHE ULTIMATE STEELY DAN TRIBUTE\, FAITHFULLY REPRODUCES THE SONGS OF LEGENDARY ROCK AND JAZZ ARTISTS STEELY DAN AND DONALD FAGEN\, INCLUDING ALL THE HITS AS WELL AS DEEP CUTS.\nSponsored by West Bend Community Foundation \nKnown for their remarkable ability to capture the essence of Steely Dan’s iconic sound\, Steely Dane delivers a concert experience like no other. From the complex arrangements to the smooth jazz-infused melodies\, they effortlessly transport audiences back to the heyday of rock and jazz fusion.  Led by a group of immensely talented musicians\, Steely Dane brings the timeless hits of Steely Dan to life with precision and passion. \nThe songs of Steely Dan form the soundtrack for so many of our lives. The band\, more than any other\, brought together Jazz\, Rock\, and R&B sensibilities to form a whole new kind of pop music featuring sophisticated jazz voicing and an army of the best studio musicians to play them. These are the songs that we associate with the warm summer of 1978\, our first kiss\, and those ski trips out to Colorado. \nWinner of multiple awards for best tribute band\, Steely Dane is dedicated to not only faithfully reproducing the Steely Dan and Donald Fagen songbook\, but to bringing an energetic live-show experience to the crowd. Fourteen of Dane County’s best jazz and rock musicians have banded together around their passion for Steely Dan music\, playing in the same configuration as the Steely Dan touring band including a four piece horn section and three background singers. Shows consist of hits and deep cuts and sometimes even complete albums and are sure to have you out of your seats singing along. \nDoors open at 6:30 PM to give you time to find your seats\, visit our historic lobby\, concession stand and fully stocked bar! Show begins at approximately 7:30 PM \nDisclaimer: Dancing is permitted during all shows at The Bend Theater. By attending\, you acknowledge that audience members may stand\, move\, and dance during performances. Enjoy the music and embrace the energy!
URL:https://thebendwi.org/event/steely-dane-2025/
CATEGORIES:Featured,Live Events
ATTACH;FMTTYPE=image/jpeg:https://thebendwi.org/wp-content/uploads/2025/02/SteelyDaneWordPress.jpg
END:VEVENT
BEGIN:VEVENT
DTSTART;TZID=America/Chicago:20250518T133000
DTEND;TZID=America/Chicago:20250518T143000
DTSTAMP:20260422T144841
CREATED:20250504T023251Z
LAST-MODIFIED:20250509T183854Z
UID:2811-1747575000-1747578600@thebendwi.org
SUMMARY:In the Garden with The Gutekunst Flute Choir
DESCRIPTION:The Gutekunst Flute Choir presents “In the Garden”\n\nin honor of Roots & Branches Annual Spring Plant Sale\nPresented by The Bend Theater in partnership with The Gutekunst Flute Choir \nFree Event to the Community \n“In 2002\, a small group of flute players began playing music together. That group evolved into a flute choir based in Milwaukee\, Wisconsin. Adding flutists over time to reach their present size of 15 members\, this local organization performs at public and private venues throughout southeastern Wisconsin. The group adopted its current name after Ms. Gutekunst\, a founder\,  sadly passed away in 2010. Members feel her name\, which means “Good Art” in German\, is a fitting tribute to the talented musician and friend they lost. The group loves to make beautiful music in her memory.” \nFor more information about The Gutekunst Flute Choir\, visit gutekunstflute.com
URL:https://thebendwi.org/event/in-the-garden-with-the-gutekunst-flute-choir/
CATEGORIES:Featured,Free,Live Events
ATTACH;FMTTYPE=image/jpeg:https://thebendwi.org/wp-content/uploads/2025/05/Gutekunst-Flute-Choir-WordPress.jpg
END:VEVENT
BEGIN:VEVENT
DTSTART;TZID=America/Chicago:20250529T170000
DTEND;TZID=America/Chicago:20250529T210000
DTSTAMP:20260422T144841
CREATED:20250408T002815Z
LAST-MODIFIED:20250504T194756Z
UID:2791-1748538000-1748552400@thebendwi.org
SUMMARY:The Bend Theater Presents: 2025 Music On Main Block Party - May 29
DESCRIPTION:THE BEND PRESENTS: MUSIC ON MAIN BLOCK PARTY\nThursday\, May 29\, 2025 | Downtown West Bend\, Outside the Bend Theater\nSummer begins with a bang as The Bend Theater Presents proudly joins forces with the Downtown West Bend Association and the City of West Bend to launch the highly anticipated 2025 Music on Main Summer Concert Series! \nJoin us for an electrifying evening under the stars at our FREE season-opening block party that will transform Main Street into the ultimate celebration of music\, community\, and summer vibes. \nFEATURING LIVE PERFORMANCES BY: \nSPICY TIE BAND – Closing out the night with their signature high-energy set that blends infectious rhythms and crowd-pleasing favorites guaranteed to keep you dancing! \nWEIRD SCIENCE – Kicking off the festivities with their uniquely captivating sound that sets the perfect tone for an unforgettable evening. \nEVENT DETAILS: \n\nDate: Thursday\, May 29\, 2025\nOpening Show Entertainment: 5:00 PM\nMain Stage Performances: 6:30 PM\nLocation: Main Street\, Downtown West Bend\, Outside the Bend Theater\n\nAdmission: FREE and open to all!\nBring your friends\, family\, and dancing shoes for this community celebration! Enjoy fantastic music\, delicious food and beverages\, and the vibrant atmosphere that makes The Bend Presents series the highlight of summer. \nMADE POSSIBLE BY:\nSpotlight Sponsor: Westbury Bank\nRock Star Sponsor: Pharmacal\nLibation Sponsor: Hanson & Co. Real Estate \nA special collaboration between The Bend Theater\, Downtown West Bend Association\, and the City of West Bend \nDon’t miss the summer event everyone will be talking about!
URL:https://thebendwi.org/event/2025-music-on-main-block-party-may-29/
CATEGORIES:Featured,Free,Live Events
ATTACH;FMTTYPE=image/jpeg:https://thebendwi.org/wp-content/uploads/2025/04/Music-On-Main-Block-Party-1-WordPress-1.jpg
END:VEVENT
END:VCALENDAR