BEGIN:VCALENDAR
VERSION:2.0
PRODID:-//The Bend Theater | West Bend, WI - ECPv6.15.17.1//NONSGML v1.0//EN
CALSCALE:GREGORIAN
METHOD:PUBLISH
X-WR-CALNAME:The Bend Theater | West Bend, WI
X-ORIGINAL-URL:https://thebendwi.org
X-WR-CALDESC:Events for The Bend Theater | West Bend, WI
REFRESH-INTERVAL;VALUE=DURATION:PT1H
X-Robots-Tag:noindex
X-PUBLISHED-TTL:PT1H
BEGIN:VTIMEZONE
TZID:America/Chicago
BEGIN:DAYLIGHT
TZOFFSETFROM:-0600
TZOFFSETTO:-0500
TZNAME:CDT
DTSTART:20240310T080000
END:DAYLIGHT
BEGIN:STANDARD
TZOFFSETFROM:-0500
TZOFFSETTO:-0600
TZNAME:CST
DTSTART:20241103T070000
END:STANDARD
BEGIN:DAYLIGHT
TZOFFSETFROM:-0600
TZOFFSETTO:-0500
TZNAME:CDT
DTSTART:20250309T080000
END:DAYLIGHT
BEGIN:STANDARD
TZOFFSETFROM:-0500
TZOFFSETTO:-0600
TZNAME:CST
DTSTART:20251102T070000
END:STANDARD
BEGIN:DAYLIGHT
TZOFFSETFROM:-0600
TZOFFSETTO:-0500
TZNAME:CDT
DTSTART:20260308T080000
END:DAYLIGHT
BEGIN:STANDARD
TZOFFSETFROM:-0500
TZOFFSETTO:-0600
TZNAME:CST
DTSTART:20261101T070000
END:STANDARD
END:VTIMEZONE
BEGIN:VEVENT
DTSTART;TZID=America/Chicago:20250104T193000
DTEND;TZID=America/Chicago:20250104T220000
DTSTAMP:20260421T064141
CREATED:20241030T172308Z
LAST-MODIFIED:20241221T031601Z
UID:2565-1736019000-1736028000@thebendwi.org
SUMMARY:The First Wave
DESCRIPTION:The First Wave\nThe First Wave’s continuing mission is to be America’s finest 80’s New Wave / Alternative tribute band. This Milwaukee-based band specializes in the darker side of 80’s alternative and New Wave\, covering artists such as Depeche Mode\, The Cure\, New Order\, Duran Duran\, Billy Idol\, and Gary Numan. The band celebrates a great period of truly innovative music. The First Wave combines an energetic live musical presence with unique video visuals (including footage of the original artists) to present a thrilling show that is not to be missed. Having graced the stage in some of Milwaukee’s most revered venues including Turner Hall and Shank Hall\, as well as Summerfest\, Wisconsin State Fair\, and Bastille Days\, the band is quickly becoming a major hit amongst fans of alternative 1980’s music.
URL:https://thebendwi.org/event/the-first-wave/
CATEGORIES:Featured,Live Events
ATTACH;FMTTYPE=image/jpeg:https://thebendwi.org/wp-content/uploads/2024/10/First-Wave-Live-at-The-Bend-Theater.jpg
END:VEVENT
END:VCALENDAR