BEGIN:VCALENDAR
VERSION:2.0
PRODID:-//The Bend Theater | West Bend, WI - ECPv6.15.17.1//NONSGML v1.0//EN
CALSCALE:GREGORIAN
METHOD:PUBLISH
X-ORIGINAL-URL:https://thebendwi.org
X-WR-CALDESC:Events for The Bend Theater | West Bend, WI
REFRESH-INTERVAL;VALUE=DURATION:PT1H
X-Robots-Tag:noindex
X-PUBLISHED-TTL:PT1H
BEGIN:VTIMEZONE
TZID:America/Chicago
BEGIN:DAYLIGHT
TZOFFSETFROM:-0600
TZOFFSETTO:-0500
TZNAME:CDT
DTSTART:20230312T080000
END:DAYLIGHT
BEGIN:STANDARD
TZOFFSETFROM:-0500
TZOFFSETTO:-0600
TZNAME:CST
DTSTART:20231105T070000
END:STANDARD
BEGIN:DAYLIGHT
TZOFFSETFROM:-0600
TZOFFSETTO:-0500
TZNAME:CDT
DTSTART:20240310T080000
END:DAYLIGHT
BEGIN:STANDARD
TZOFFSETFROM:-0500
TZOFFSETTO:-0600
TZNAME:CST
DTSTART:20241103T070000
END:STANDARD
BEGIN:DAYLIGHT
TZOFFSETFROM:-0600
TZOFFSETTO:-0500
TZNAME:CDT
DTSTART:20250309T080000
END:DAYLIGHT
BEGIN:STANDARD
TZOFFSETFROM:-0500
TZOFFSETTO:-0600
TZNAME:CST
DTSTART:20251102T070000
END:STANDARD
END:VTIMEZONE
BEGIN:VEVENT
DTSTART;TZID=America/Chicago:20241213T193000
DTEND;TZID=America/Chicago:20241213T220000
DTSTAMP:20260422T082522
CREATED:20240911T220719Z
LAST-MODIFIED:20241124T022401Z
UID:2501-1734118200-1734127200@thebendwi.org
SUMMARY:Dan Rodriguez - The All I Want for Christmas is Whiskey Tour 2024
DESCRIPTION:A message from Dan: \nHi\, I’m Dan. I’m a whiskey & beer drinking\, fishing & hunting loving\, motorcycle riding\, quality food eating\, hippie sympathizing\, hobby farm running\, people loving\, husband & father who lives in Minneapolis and shares a life with my amazing wife and two adorable sons named Oak and Alder. \nI grew up in the suburbs of Detroit\, MI\, and moved to Minneapolis when I was 18 to study music\, and I stayed because I’m one of those crazy people that enjoys the snow and cold weather. \nSongwriting\, and performing those songs for people\, is both my trade and my passion. When I’m not in my studio writing and cutting records\, or on the road playing shows\, I’m usually playing in the woods with our boys\, tending to our backyard chickens\, eating fresh veggies from my wife’s huge garden\, making syrup from our maple grove\, or doing one of my many outdoor hobbies.
URL:https://thebendwi.org/event/dan-rodriguez-the-all-i-want-for-christmas-is-whiskey-tour-2024/
CATEGORIES:Featured,Live Events
ATTACH;FMTTYPE=image/jpeg:https://thebendwi.org/wp-content/uploads/2024/09/Dan-Rodriguez-WordPress.jpg
END:VEVENT
END:VCALENDAR