BEGIN:VCALENDAR
VERSION:2.0
PRODID:-//The Bend Theater | West Bend, WI - ECPv6.15.17.1//NONSGML v1.0//EN
CALSCALE:GREGORIAN
METHOD:PUBLISH
X-WR-CALNAME:The Bend Theater | West Bend, WI
X-ORIGINAL-URL:https://thebendwi.org
X-WR-CALDESC:Events for The Bend Theater | West Bend, WI
REFRESH-INTERVAL;VALUE=DURATION:PT1H
X-Robots-Tag:noindex
X-PUBLISHED-TTL:PT1H
BEGIN:VTIMEZONE
TZID:America/Chicago
BEGIN:DAYLIGHT
TZOFFSETFROM:-0600
TZOFFSETTO:-0500
TZNAME:CDT
DTSTART:20230312T080000
END:DAYLIGHT
BEGIN:STANDARD
TZOFFSETFROM:-0500
TZOFFSETTO:-0600
TZNAME:CST
DTSTART:20231105T070000
END:STANDARD
BEGIN:DAYLIGHT
TZOFFSETFROM:-0600
TZOFFSETTO:-0500
TZNAME:CDT
DTSTART:20240310T080000
END:DAYLIGHT
BEGIN:STANDARD
TZOFFSETFROM:-0500
TZOFFSETTO:-0600
TZNAME:CST
DTSTART:20241103T070000
END:STANDARD
BEGIN:DAYLIGHT
TZOFFSETFROM:-0600
TZOFFSETTO:-0500
TZNAME:CDT
DTSTART:20250309T080000
END:DAYLIGHT
BEGIN:STANDARD
TZOFFSETFROM:-0500
TZOFFSETTO:-0600
TZNAME:CST
DTSTART:20251102T070000
END:STANDARD
END:VTIMEZONE
BEGIN:VEVENT
DTSTART;TZID=America/Chicago:20241130T193000
DTEND;TZID=America/Chicago:20241130T220000
DTSTAMP:20260422T094454
CREATED:20240911T220545Z
LAST-MODIFIED:20241116T070124Z
UID:2499-1732995000-1733004000@thebendwi.org
SUMMARY:The Blooze Brothers
DESCRIPTION:The Blooze Brothers\nHonoring the original Blues Brothers \nFor over three decades (yes\, really)\, the Blooze Brothers Band has been one of Chicagoland’s most in-demand show bands.  They not only honor the music made by the original Blues Brothers in movies\, TV\, and recordings\, but the spirit in which they played – from Dan Aykroyd’s love of traditional blues\, Motown\, soul\, and R&B to John Belushi’s love of classic rock.  Like Aykroyd and Belushi\, they fuse those great musical traditions into a stage show that energizes and delights hundreds of thousands of music fans across the greater Chicago area and beyond every year. \nThe band has played for major corporations like Microsoft and Kraft\, major venues like the United Center and the House of Blues\, plus hundreds of festivals\, theaters\, weddings\, backyard barbecues\, and everything in between.  They’ve played for over 60\,000 screaming NHL fans at Soldier Field and over 45\,000 racing fans at NASCAR’s Camping World 400.  The band was also honored to represent the State of Illinois and perform at a Presidential Inauguration in Washington\, DC. \nWith a combination of two high-energy frontmen\, a dynamic female lead singer\, some of Chicago’s top musicians\, and a briefcase full of your favorite rhythm & blues\, blues\, and soul classics\, the Blooze Brothers Band provides a musical experience that can’t be beat!
URL:https://thebendwi.org/event/the-blooze-brothers/
CATEGORIES:Featured,Live Events
ATTACH;FMTTYPE=image/jpeg:https://thebendwi.org/wp-content/uploads/2024/09/BloozeBrothers-Live-at-The-Bend-Theater.jpg
END:VEVENT
END:VCALENDAR