BEGIN:VCALENDAR
VERSION:2.0
PRODID:-//The Bend Theater | West Bend, WI - ECPv6.15.17.1//NONSGML v1.0//EN
CALSCALE:GREGORIAN
METHOD:PUBLISH
X-WR-CALNAME:The Bend Theater | West Bend, WI
X-ORIGINAL-URL:https://thebendwi.org
X-WR-CALDESC:Events for The Bend Theater | West Bend, WI
REFRESH-INTERVAL;VALUE=DURATION:PT1H
X-Robots-Tag:noindex
X-PUBLISHED-TTL:PT1H
BEGIN:VTIMEZONE
TZID:America/Chicago
BEGIN:DAYLIGHT
TZOFFSETFROM:-0600
TZOFFSETTO:-0500
TZNAME:CDT
DTSTART:20250309T080000
END:DAYLIGHT
BEGIN:STANDARD
TZOFFSETFROM:-0500
TZOFFSETTO:-0600
TZNAME:CST
DTSTART:20251102T070000
END:STANDARD
BEGIN:DAYLIGHT
TZOFFSETFROM:-0600
TZOFFSETTO:-0500
TZNAME:CDT
DTSTART:20260308T080000
END:DAYLIGHT
BEGIN:STANDARD
TZOFFSETFROM:-0500
TZOFFSETTO:-0600
TZNAME:CST
DTSTART:20261101T070000
END:STANDARD
BEGIN:DAYLIGHT
TZOFFSETFROM:-0600
TZOFFSETTO:-0500
TZNAME:CDT
DTSTART:20270314T080000
END:DAYLIGHT
BEGIN:STANDARD
TZOFFSETFROM:-0500
TZOFFSETTO:-0600
TZNAME:CST
DTSTART:20271107T070000
END:STANDARD
END:VTIMEZONE
BEGIN:VEVENT
DTSTART;TZID=America/Chicago:20260515T193000
DTEND;TZID=America/Chicago:20260515T213000
DTSTAMP:20260422T063103
CREATED:20260213T221628Z
LAST-MODIFIED:20260213T221628Z
UID:3243-1778873400-1778880600@thebendwi.org
SUMMARY:Mary Mack Comedy
DESCRIPTION:A hybrid of Minnesota and Wisconsin (with a severe cheese dependency)\, comedian Mary Mack is a favorite on radio shows and podcasts around the country including\, Marc Maron’s WTF Podcast\, The Bob and Tom Show\, and The Grand Ole Opry. Mary co-stars as Jesse in the Hulu cartoon Solar Opposites by the creators of Rick and Morty. She’s appeared in Montreal’s Just For Laughs Festival\, HBO’s Andy Kaufman Awards\, San Francisco’s Sketchfest\, and the Dry Bar comedy series. \nMack’s television credits include Comedy Central’s Live at Gotham\, TBS’ Conan\, Adult Swim’s Aqua Teen Hunger Force\, Fox’s Golan the Insatiable\, and NBC’s Last Comic Standing\, Last Call with Carson Daly\, and The Tonight Show starring Jimmy Fallon. When not touring\, Mary spends way too much time and money working on her vintage camper in the woods of Northern Wisconsin. \nPlease note all ticket sales are final.
URL:https://thebendwi.org/event/mary-mack-comedy/
CATEGORIES:Live Events,Stand Up Comedy
ATTACH;FMTTYPE=image/jpeg:https://thebendwi.org/wp-content/uploads/2026/02/Mary-Mack-WordPress.jpg
END:VEVENT
BEGIN:VEVENT
DTSTART;TZID=America/Chicago:20260529T193000
DTEND;TZID=America/Chicago:20260529T213000
DTSTAMP:20260422T063103
CREATED:20260226T205146Z
LAST-MODIFIED:20260227T170257Z
UID:3260-1780083000-1780090200@thebendwi.org
SUMMARY:Caroline Rhea
DESCRIPTION:Caroline Rhea is a stand-up comedian and actress\, best known for her role as “Hilda Spellman” from the hit series ‘Sabrina the Teenage Witch’ and her numerous comedy specials on HBO\, Comedy Central and Showtime. \nShe voices the Mom\, “Linda Flynn Fletcher” on Disney’s hit series\, Phineas and Ferb. She has starred in many films including Hallmark’s A Mrs. Miracle Christmas as Mrs. Miracle and most recently she has a recurring role on NBC’s Lopez vs. Lopez. She has hosted her own talk show and has been a regular panelist on the game shows\, Funny You Should Ask\, Match Game\, Name that Tune and Hollywood Squares. \nShe performed this year in Scotland at the Edinburgh Comedy Festival\, and recently filmed her 7th comedy special at the Sydney Opera House. Caroline tours comedy clubs throughout the world and still makes time for hosting and serving as an auctioneer for numerous charities. \nPlease note all ticket sales are final.\nThis show is 18+
URL:https://thebendwi.org/event/caroline-rhea/
CATEGORIES:Live Events,Stand Up Comedy
ATTACH;FMTTYPE=image/jpeg:https://thebendwi.org/wp-content/uploads/2026/02/Caroline-Rhea-WordPress.jpg
END:VEVENT
END:VCALENDAR