BEGIN:VCALENDAR
VERSION:2.0
PRODID:-//The Bend Theater | West Bend, WI - ECPv6.15.17.1//NONSGML v1.0//EN
CALSCALE:GREGORIAN
METHOD:PUBLISH
X-ORIGINAL-URL:https://thebendwi.org
X-WR-CALDESC:Events for The Bend Theater | West Bend, WI
REFRESH-INTERVAL;VALUE=DURATION:PT1H
X-Robots-Tag:noindex
X-PUBLISHED-TTL:PT1H
BEGIN:VTIMEZONE
TZID:America/Chicago
BEGIN:DAYLIGHT
TZOFFSETFROM:-0600
TZOFFSETTO:-0500
TZNAME:CDT
DTSTART:20200308T080000
END:DAYLIGHT
BEGIN:STANDARD
TZOFFSETFROM:-0500
TZOFFSETTO:-0600
TZNAME:CST
DTSTART:20201101T070000
END:STANDARD
BEGIN:DAYLIGHT
TZOFFSETFROM:-0600
TZOFFSETTO:-0500
TZNAME:CDT
DTSTART:20210314T080000
END:DAYLIGHT
BEGIN:STANDARD
TZOFFSETFROM:-0500
TZOFFSETTO:-0600
TZNAME:CST
DTSTART:20211107T070000
END:STANDARD
BEGIN:DAYLIGHT
TZOFFSETFROM:-0600
TZOFFSETTO:-0500
TZNAME:CDT
DTSTART:20220313T080000
END:DAYLIGHT
BEGIN:STANDARD
TZOFFSETFROM:-0500
TZOFFSETTO:-0600
TZNAME:CST
DTSTART:20221106T070000
END:STANDARD
END:VTIMEZONE
BEGIN:VEVENT
DTSTART;TZID=America/Chicago:20211007T190000
DTEND;TZID=America/Chicago:20211007T210000
DTSTAMP:20260424T164941
CREATED:20211230T143625Z
LAST-MODIFIED:20221109T221139Z
UID:788-1633633200-1633640400@thebendwi.org
SUMMARY:I Am Legend (2007 - PG-13)
DESCRIPTION:Years after a plague kills most of humanity and transforms the rest into monsters\, the sole survivor of New York City struggles valiantly to fund a cure.
URL:https://thebendwi.org/event/i-am-legend-2007-pg-13/
LOCATION:Donate
ATTACH;FMTTYPE=image/jpeg:https://thebendwi.org/wp-content/uploads/2021/12/home-about.jpg
END:VEVENT
BEGIN:VEVENT
DTSTART;TZID=America/Chicago:20211021T190000
DTEND;TZID=America/Chicago:20211021T210000
DTSTAMP:20260424T164941
CREATED:20211230T144601Z
LAST-MODIFIED:20211230T144601Z
UID:796-1634842800-1634850000@thebendwi.org
SUMMARY:The Shining (1980 - R)
DESCRIPTION:A family heads to an isolated hotel for the winter where a sinister presence influences the father into violence\, while his psychic son sees horrific forebodings from both past and future.
URL:https://thebendwi.org/event/the-shining-1980-r/
LOCATION:Donate
ATTACH;FMTTYPE=:
END:VEVENT
END:VCALENDAR