BEGIN:VCALENDAR
VERSION:2.0
PRODID:-//The Bend Theater | West Bend, WI - ECPv6.15.17.1//NONSGML v1.0//EN
CALSCALE:GREGORIAN
METHOD:PUBLISH
X-WR-CALNAME:The Bend Theater | West Bend, WI
X-ORIGINAL-URL:https://thebendwi.org
X-WR-CALDESC:Events for The Bend Theater | West Bend, WI
REFRESH-INTERVAL;VALUE=DURATION:PT1H
X-Robots-Tag:noindex
X-PUBLISHED-TTL:PT1H
BEGIN:VTIMEZONE
TZID:America/Chicago
BEGIN:DAYLIGHT
TZOFFSETFROM:-0600
TZOFFSETTO:-0500
TZNAME:CDT
DTSTART:20230312T080000
END:DAYLIGHT
BEGIN:STANDARD
TZOFFSETFROM:-0500
TZOFFSETTO:-0600
TZNAME:CST
DTSTART:20231105T070000
END:STANDARD
BEGIN:DAYLIGHT
TZOFFSETFROM:-0600
TZOFFSETTO:-0500
TZNAME:CDT
DTSTART:20240310T080000
END:DAYLIGHT
BEGIN:STANDARD
TZOFFSETFROM:-0500
TZOFFSETTO:-0600
TZNAME:CST
DTSTART:20241103T070000
END:STANDARD
BEGIN:DAYLIGHT
TZOFFSETFROM:-0600
TZOFFSETTO:-0500
TZNAME:CDT
DTSTART:20250309T080000
END:DAYLIGHT
BEGIN:STANDARD
TZOFFSETFROM:-0500
TZOFFSETTO:-0600
TZNAME:CST
DTSTART:20251102T070000
END:STANDARD
BEGIN:DAYLIGHT
TZOFFSETFROM:-0600
TZOFFSETTO:-0500
TZNAME:CDT
DTSTART:20260308T080000
END:DAYLIGHT
BEGIN:STANDARD
TZOFFSETFROM:-0500
TZOFFSETTO:-0600
TZNAME:CST
DTSTART:20261101T070000
END:STANDARD
END:VTIMEZONE
BEGIN:VEVENT
DTSTART;TZID=America/Chicago:20241231T213000
DTEND;TZID=America/Chicago:20250101T003000
DTSTAMP:20260422T171855
CREATED:20240905T180805Z
LAST-MODIFIED:20241224T170116Z
UID:2492-1735680600-1735691400@thebendwi.org
SUMMARY:The Bend's Gatsby New Year's Eve Bash ft. The Flat Cats 2024
DESCRIPTION:The Bend’s New Year’s Eve Bash\nDecember 31\, 2024 – 8:30 pm – January 1\, 2025 – 12:30 am (Doors open at 8:30\, entertainment begins at 9:30pm) \nExperience the magic of rolling in the New YEAR at the Bend Theater – as we say farewell to 2024 and welcome in 2025\, at this night of revelry\, music\, and celebration! \nEntertainment\, Eats\, Camaraderie\, and Champagne toast as the clock strikes midnight included with your ticket. \nChampagne (and other beverages): \nFully stocked bar opens at 8:30pm. \nAs the clock nears midnight\, the anticipation builds\, and the air becomes charged with excitement. The Bend Theater will provide each guest with a flute of Champagne (or NA bubbly) to toast\, a symbolic moment to bid farewell to the old year and welcome the new. Raise your glass and let the effervescent bubbles dance on your palate as you toast to the possibilities ahead in 2025. \nCamaraderie: \nDoors open at 8:30 PM for an hour full of drinks\, food\, and fun! \nThroughout the night\, guests will have the opportunity to participate in other activities (ex: penny social auction\, wine pull\, roulette wheel spin)\, adding an element of thrill and anticipation to the evening. \nSo don your finest formal wear\, informal wear\, ugliest sweaters\, or PJ’s\, to embrace the extravagance of the evening\, and join us at The Bend Theater for a New Year’s Eve Bash! \nEats: \nThroughout the evening\, guests will indulge in an array of delectable appetizers provided by West Bend’s very own\, The Outbreak/Antidote\, expertly crafted to tantalize the taste buds. From bite-sized treats to savory hors d’oeuvres\, the culinary delights will keep you energized and ready to revel in the festivities. \nEntertainment: \nTo set the rhythm of the night\, the renowned swing and jazz band\, The Flat Cats\, will take center stage\, delivering an electrifying performance that will have you tapping your feet and swinging to the beat. Their soulful melodies and captivating energy will transport you to a bygone era\, ensuring an immersive and enchanting experience. \nThe Flat Cats\, based in Chicago\, IL\, play a range of vintage and modern music\, contemporary classics\, and timeless standards. Whether you choose to listen\, tap your foot\, or cut a rug on the dance floor\, you are sure to be entertained! \nThe Flat Cats begin at approximately 9:30 PM. \nDoors open at 8:30 PM to give you time to enjoy food\, our fully stocked bar\, and to find your seats before the entertainment begins!
URL:https://thebendwi.org/event/the-bends-gatsby-new-years-eve-bash-ft-the-flat-cats-2/
CATEGORIES:Featured,Live Events
ATTACH;FMTTYPE=image/jpeg:https://thebendwi.org/wp-content/uploads/2024/09/New-Years-Live-at-The-Bend-Theater.jpg
END:VEVENT
END:VCALENDAR