BEGIN:VCALENDAR
VERSION:2.0
PRODID:-//The Bend Theater | West Bend, WI - ECPv6.15.17.1//NONSGML v1.0//EN
CALSCALE:GREGORIAN
METHOD:PUBLISH
X-ORIGINAL-URL:https://thebendwi.org
X-WR-CALDESC:Events for The Bend Theater | West Bend, WI
REFRESH-INTERVAL;VALUE=DURATION:PT1H
X-Robots-Tag:noindex
X-PUBLISHED-TTL:PT1H
BEGIN:VTIMEZONE
TZID:America/Chicago
BEGIN:DAYLIGHT
TZOFFSETFROM:-0600
TZOFFSETTO:-0500
TZNAME:CDT
DTSTART:20230312T080000
END:DAYLIGHT
BEGIN:STANDARD
TZOFFSETFROM:-0500
TZOFFSETTO:-0600
TZNAME:CST
DTSTART:20231105T070000
END:STANDARD
BEGIN:DAYLIGHT
TZOFFSETFROM:-0600
TZOFFSETTO:-0500
TZNAME:CDT
DTSTART:20240310T080000
END:DAYLIGHT
BEGIN:STANDARD
TZOFFSETFROM:-0500
TZOFFSETTO:-0600
TZNAME:CST
DTSTART:20241103T070000
END:STANDARD
BEGIN:DAYLIGHT
TZOFFSETFROM:-0600
TZOFFSETTO:-0500
TZNAME:CDT
DTSTART:20250309T080000
END:DAYLIGHT
BEGIN:STANDARD
TZOFFSETFROM:-0500
TZOFFSETTO:-0600
TZNAME:CST
DTSTART:20251102T070000
END:STANDARD
END:VTIMEZONE
BEGIN:VEVENT
DTSTART;TZID=America/Chicago:20241221T193000
DTEND;TZID=America/Chicago:20241221T220000
DTSTAMP:20260422T154820
CREATED:20240912T163355Z
LAST-MODIFIED:20241201T040058Z
UID:2507-1734809400-1734818400@thebendwi.org
SUMMARY:A WhiskeyBelles Christmas 2024
DESCRIPTION:A WhiskeyBelles Christmas at The Bend Theater\n2024 WAMI’s Folk Artist of the Year \nRoots Country Music\, Born of Gin Halls and Juke Joints – Hank Williams passion\, Carter family harmonies\, with a little Hee Haw mixed in for good measure. The WhiskeyBelles are a traditional country and Americana trio based out of Milwaukee\, Wisconsin. The Belles are widely known for captivating shows featuring their own take on classic and obscure vintage-country\, Americana\, folk-revival and roots-country tunes\, with their own witty originals sprinkled in. They’ve been compared with the Pistol Annies\, Dixie Chicks and Trio (Dolly Parton\, Emmy Lou Harris & Linda Ronstadt). The ‘Belles have personalities as big as the Texan skyline – they have a great time on stage\, and love to share the fun with their audience. \nThe WhiskeyBelles Christmas show features unique arrangements to traditional holiday favorites as well as a plethora of originals from their Christmas album that showcases a holiday spirit infused into their repertoire. \nShow begins at 7:30pm. Doors\, bar & concessions open at 6:30pm. \n 
URL:https://thebendwi.org/event/a-whiskeybelles-christmas-2024/
CATEGORIES:Featured,Live Events
ATTACH;FMTTYPE=image/jpeg:https://thebendwi.org/wp-content/uploads/2024/09/WhiskeyBelles-Nov-2024-Live-at-The-Bend-Theater.jpg
END:VEVENT
END:VCALENDAR