BEGIN:VCALENDAR
VERSION:2.0
PRODID:-//The Bend Theater | West Bend, WI - ECPv6.15.17.1//NONSGML v1.0//EN
CALSCALE:GREGORIAN
METHOD:PUBLISH
X-WR-CALNAME:The Bend Theater | West Bend, WI
X-ORIGINAL-URL:https://thebendwi.org
X-WR-CALDESC:Events for The Bend Theater | West Bend, WI
REFRESH-INTERVAL;VALUE=DURATION:PT1H
X-Robots-Tag:noindex
X-PUBLISHED-TTL:PT1H
BEGIN:VTIMEZONE
TZID:America/Chicago
BEGIN:DAYLIGHT
TZOFFSETFROM:-0600
TZOFFSETTO:-0500
TZNAME:CDT
DTSTART:20230312T080000
END:DAYLIGHT
BEGIN:STANDARD
TZOFFSETFROM:-0500
TZOFFSETTO:-0600
TZNAME:CST
DTSTART:20231105T070000
END:STANDARD
BEGIN:DAYLIGHT
TZOFFSETFROM:-0600
TZOFFSETTO:-0500
TZNAME:CDT
DTSTART:20240310T080000
END:DAYLIGHT
BEGIN:STANDARD
TZOFFSETFROM:-0500
TZOFFSETTO:-0600
TZNAME:CST
DTSTART:20241103T070000
END:STANDARD
BEGIN:DAYLIGHT
TZOFFSETFROM:-0600
TZOFFSETTO:-0500
TZNAME:CDT
DTSTART:20250309T080000
END:DAYLIGHT
BEGIN:STANDARD
TZOFFSETFROM:-0500
TZOFFSETTO:-0600
TZNAME:CST
DTSTART:20251102T070000
END:STANDARD
END:VTIMEZONE
BEGIN:VEVENT
DTSTART;TZID=America/Chicago:20241220T193000
DTEND;TZID=America/Chicago:20241220T220000
DTSTAMP:20260422T172005
CREATED:20240911T220340Z
LAST-MODIFIED:20241201T040037Z
UID:2505-1734723000-1734732000@thebendwi.org
SUMMARY:Janet Planet's All I Want for Christmas Show
DESCRIPTION:Janet Planet is a dynamic force in the realm of sound\, mesmerizing listeners with her remarkable talent. As a prolific recording artist\, Janet has over 25 albums in her discography. On stage\, Janet exudes an evident mastery of her instrument\, resulting in a personal and meaningful experience for her audiences. \nJanet has graced renowned jazz festivals and intimate clubs\, performing with small combos and full orchestras from Rochester to Russia\, NYC to Johannesburg. Janet’s most recent project\, featuring the music of Johnny Mandel\, brought her to the London Jazz Festival. \nShow begins at 7:30pm. Doors\, bar & concessions open at 6:30pm.
URL:https://thebendwi.org/event/janet-planets-all-i-want-for-christmas-show/
CATEGORIES:Featured,Live Events
ATTACH;FMTTYPE=image/jpeg:https://thebendwi.org/wp-content/uploads/2024/09/JanetPlanet-Live-at-The-Bend-Theater.jpg
END:VEVENT
END:VCALENDAR