BEGIN:VCALENDAR
VERSION:2.0
PRODID:-//The Bend Theater | West Bend, WI - ECPv6.15.17.1//NONSGML v1.0//EN
CALSCALE:GREGORIAN
METHOD:PUBLISH
X-WR-CALNAME:The Bend Theater | West Bend, WI
X-ORIGINAL-URL:https://thebendwi.org
X-WR-CALDESC:Events for The Bend Theater | West Bend, WI
REFRESH-INTERVAL;VALUE=DURATION:PT1H
X-Robots-Tag:noindex
X-PUBLISHED-TTL:PT1H
BEGIN:VTIMEZONE
TZID:America/Chicago
BEGIN:DAYLIGHT
TZOFFSETFROM:-0600
TZOFFSETTO:-0500
TZNAME:CDT
DTSTART:20230312T080000
END:DAYLIGHT
BEGIN:STANDARD
TZOFFSETFROM:-0500
TZOFFSETTO:-0600
TZNAME:CST
DTSTART:20231105T070000
END:STANDARD
BEGIN:DAYLIGHT
TZOFFSETFROM:-0600
TZOFFSETTO:-0500
TZNAME:CDT
DTSTART:20240310T080000
END:DAYLIGHT
BEGIN:STANDARD
TZOFFSETFROM:-0500
TZOFFSETTO:-0600
TZNAME:CST
DTSTART:20241103T070000
END:STANDARD
BEGIN:DAYLIGHT
TZOFFSETFROM:-0600
TZOFFSETTO:-0500
TZNAME:CDT
DTSTART:20250309T080000
END:DAYLIGHT
BEGIN:STANDARD
TZOFFSETFROM:-0500
TZOFFSETTO:-0600
TZNAME:CST
DTSTART:20251102T070000
END:STANDARD
END:VTIMEZONE
BEGIN:VEVENT
DTSTART;TZID=America/Chicago:20241109T193000
DTEND;TZID=America/Chicago:20241109T220000
DTSTAMP:20260422T123948
CREATED:20240814T151856Z
LAST-MODIFIED:20241029T142235Z
UID:2455-1731180600-1731189600@thebendwi.org
SUMMARY:Yesterday and Today: An Interactive Beatles Experience
DESCRIPTION:Yesterday and Today: An Interactive Beatles Experience\nEvent Sponsor provided by : Joel & Christina Ongert\, Alpha Custom Apparel and Koehn & Koehn Jewelers \nEvery performance becomes an extraordinary journey as the audience actively shapes the setlist\, ensuring that each show is an unparalleled and tailor-made experience.\nYesterday and Today: The Interactive Beatles Experience is the nation’s most innovative and unique show utilizing the works of the Beatles. This amazing band\, anchored by brothers Billy\, Matthew and Ryan McGuigan perform as themselves and leave the song choices completely in the hands of the audience. This is done through request cards that audience members fill out prior to the show. On those cards\, the audience member only needs to fill out three things: their name\, their favorite Beatles song and the reason why they chose that song. The cards are collected and two minutes before the show begins\, a set list is created based upon the songs chosen by that particular audience. As an added treat\, the reasons that the audience members chose those songs make up the narrative of the evening. Every show is different\, every show is interactive\, and every show proves that The Beatles music truly is the soundtrack to our lives. \nTHE MCGUIGAN BROTHERS TRIBUTE TO THEIR DAD  \nStars of Yesterday and Today\, Billy and Matthew McGuigan\, originally from Largo\, FL\, were just 21 and 15 years old in 1996 when their father\, William McGuigan\, passed away\, after a difficult\, but courageous battles with Leukemia. \nShow starts at 7:30pm. Doors\, bar & concessions open at 6:30pm.
URL:https://thebendwi.org/event/yesterday-and-today-an-interactive-beatles-experience-2/
CATEGORIES:Featured,Live Events
ATTACH;FMTTYPE=image/jpeg:https://thebendwi.org/wp-content/uploads/2024/08/Yesterday-and-Today-WordPress-Low-Tickets.jpg
END:VEVENT
END:VCALENDAR