BEGIN:VCALENDAR
VERSION:2.0
PRODID:-//The Bend Theater | West Bend, WI - ECPv6.15.17.1//NONSGML v1.0//EN
CALSCALE:GREGORIAN
METHOD:PUBLISH
X-WR-CALNAME:The Bend Theater | West Bend, WI
X-ORIGINAL-URL:https://thebendwi.org
X-WR-CALDESC:Events for The Bend Theater | West Bend, WI
REFRESH-INTERVAL;VALUE=DURATION:PT1H
X-Robots-Tag:noindex
X-PUBLISHED-TTL:PT1H
BEGIN:VTIMEZONE
TZID:America/Chicago
BEGIN:DAYLIGHT
TZOFFSETFROM:-0600
TZOFFSETTO:-0500
TZNAME:CDT
DTSTART:20250309T080000
END:DAYLIGHT
BEGIN:STANDARD
TZOFFSETFROM:-0500
TZOFFSETTO:-0600
TZNAME:CST
DTSTART:20251102T070000
END:STANDARD
BEGIN:DAYLIGHT
TZOFFSETFROM:-0600
TZOFFSETTO:-0500
TZNAME:CDT
DTSTART:20260308T080000
END:DAYLIGHT
BEGIN:STANDARD
TZOFFSETFROM:-0500
TZOFFSETTO:-0600
TZNAME:CST
DTSTART:20261101T070000
END:STANDARD
BEGIN:DAYLIGHT
TZOFFSETFROM:-0600
TZOFFSETTO:-0500
TZNAME:CDT
DTSTART:20270314T080000
END:DAYLIGHT
BEGIN:STANDARD
TZOFFSETFROM:-0500
TZOFFSETTO:-0600
TZNAME:CST
DTSTART:20271107T070000
END:STANDARD
END:VTIMEZONE
BEGIN:VEVENT
DTSTART;TZID=America/Chicago:20260501T193000
DTEND;TZID=America/Chicago:20260501T220000
DTSTAMP:20260425T110852
CREATED:20260211T025559Z
LAST-MODIFIED:20260421T142244Z
UID:3236-1777663800-1777672800@thebendwi.org
SUMMARY:Whole Yachta Love
DESCRIPTION:Whole Yachta Love This is Yacht Rock at its finest. The best music from the greatest era put on a boat\, taken for a ride\, returned smoother and inserted gently into your ear holes.  Some of the mid-west’s best musicians recreating the guilty pleasures of the late 70s and early 80s with an infectious and fun show that gets the audience singing along instantly. \nPlease note all ticket sales are final.\nPlease have ticket ready upon arrival.
URL:https://thebendwi.org/event/whole-yachta-love-2/
CATEGORIES:Featured,Live Events
ATTACH;FMTTYPE=image/jpeg:https://thebendwi.org/wp-content/uploads/2026/02/Whole-Yachta-Love-WordPress.jpg
END:VEVENT
BEGIN:VEVENT
DTSTART;TZID=America/Chicago:20260502T193000
DTEND;TZID=America/Chicago:20260502T220000
DTSTAMP:20260425T110852
CREATED:20260211T040531Z
LAST-MODIFIED:20260421T142301Z
UID:3238-1777750200-1777759200@thebendwi.org
SUMMARY:Them Coulee Boys 2026
DESCRIPTION:Soren Staff and Beau Janke – co-founders of folk/rock/Americana outfit Them Coulee Boys – met as camp counselors in northern Wisconsin in 2011. Their weekend workshopping of Avett Brothers and classic country tunes led to original songs and adding Soren’s brother Jens on mandolin. As the years grew\, the band turned into a more rollicking outfit\, adding Neil Krause on electric bass and Stas Hable on drums. The band’s name is a nod to the glacial melt-carved river valleys they call home\, known by early French fur trappers as coulees. Known for wild swings of emotion during sets\, it is not unusual to see fans in tears and minutes later dancing with abandon. The honesty and ability to talk and sing about the feelings and emotions that shape them has endeared them to a growing group of fans and friends. \nPlease note all ticket sales are final.
URL:https://thebendwi.org/event/them-coulee-boys-2026/
CATEGORIES:Featured,Live Events
ATTACH;FMTTYPE=image/jpeg:https://thebendwi.org/wp-content/uploads/2026/02/Them-Coulee-Boys-2026-WordPress.jpg
END:VEVENT
END:VCALENDAR