BEGIN:VCALENDAR
VERSION:2.0
PRODID:-//The Bend Theater | West Bend, WI - ECPv6.15.17.1//NONSGML v1.0//EN
CALSCALE:GREGORIAN
METHOD:PUBLISH
X-ORIGINAL-URL:https://thebendwi.org
X-WR-CALDESC:Events for The Bend Theater | West Bend, WI
REFRESH-INTERVAL;VALUE=DURATION:PT1H
X-Robots-Tag:noindex
X-PUBLISHED-TTL:PT1H
BEGIN:VTIMEZONE
TZID:America/Chicago
BEGIN:DAYLIGHT
TZOFFSETFROM:-0600
TZOFFSETTO:-0500
TZNAME:CDT
DTSTART:20250309T080000
END:DAYLIGHT
BEGIN:STANDARD
TZOFFSETFROM:-0500
TZOFFSETTO:-0600
TZNAME:CST
DTSTART:20251102T070000
END:STANDARD
BEGIN:DAYLIGHT
TZOFFSETFROM:-0600
TZOFFSETTO:-0500
TZNAME:CDT
DTSTART:20260308T080000
END:DAYLIGHT
BEGIN:STANDARD
TZOFFSETFROM:-0500
TZOFFSETTO:-0600
TZNAME:CST
DTSTART:20261101T070000
END:STANDARD
BEGIN:DAYLIGHT
TZOFFSETFROM:-0600
TZOFFSETTO:-0500
TZNAME:CDT
DTSTART:20270314T080000
END:DAYLIGHT
BEGIN:STANDARD
TZOFFSETFROM:-0500
TZOFFSETTO:-0600
TZNAME:CST
DTSTART:20271107T070000
END:STANDARD
END:VTIMEZONE
BEGIN:VEVENT
DTSTART;TZID=America/Chicago:20260314T193000
DTEND;TZID=America/Chicago:20260314T223000
DTSTAMP:20260421T171039
CREATED:20250903T203030Z
LAST-MODIFIED:20260221T015725Z
UID:2961-1773516600-1773527400@thebendwi.org
SUMMARY:The Rush Tribute Project - March 14
DESCRIPTION:The RUSH Tribute Project is an homage to one of the most enduring and influential bands in rock music. \nCombining skilled musicianship with exciting performances\, The RUSH Tribute Project (known as RTP to its dedicated fanbase) delivers the magic of Rush’s famous live concerts. Covering all 40-plus years of Rush’s amazing career\, RTP painstakingly recreates the sound and energy that made Rush one of the top-selling rock bands of all time. With a lineup that has performed Rush tribute shows for over a decade across North America and around the world\, including RushCon\, RTP stands out as one of the premiere tributes to this legendary\, RnR HOF power-trio. \nUsing vintage instruments\, multi-camera projections\, state-of-the-art lighting\, and signature virtuosity\, RTP delivers an unparalleled concert experience for the casual fan as well as the most discerning Rush loyalist. \nSEAN JONES is a classically trained multi-instrumentalist\, which comes in handy when needing to cover Geddy Lee. He has played nationally and internationally in various Rush tributes over the past 20 years\, including playing for RushCon and touring army bases in Kuwait. Along with Geddy\, some of Sean’s biggest bass influences include Chris Squire and John Entwistle\, all of whom incorporated keyboards\, synth pedals\, guitars\, and other instruments into their performances. \nBILL HECK is a 37-year veteran of guitar and has been playing at some level since childhood. Bill was the proud recipient of the Wisconsin Area Music Industry (WAMI) Award for best guitarist in 2017. He has always been heavily influenced by guitar-hero rock\, hard rock\, and metal\, but always considered Rush and Alex Lifeson as the primary force behind his love for guitar playing. Bill could be considered the “new guy” in The Rush Tribute Project as he had to go through the heavy scrutiny of auditioning for the band but has happily been a member of RTP since its beginnings over eight years ago. \nTHOMAS SLAWNIK is the percussionist and has been with RTP since its start in 2013. Thomas started banging the drums at the young age of 4 and hasn’t stopped since. He has performed with several Milwaukee bands since the late ’70s. Thomas’ influences include Neil Peart and Scott Rockenfield. His current drum kit is a “Frankenstein” collection of drums and cymbals which include DW drums\, Zildjian and Sabian cymbals\, and various electronics. The kit is influenced by Rush’s R30 tour kit. When he’s not on tour\, Thomas spends his free time with his daughter\, Ina\, and enjoys golf\, bike rides\, and a good IPA. \nHundreds of FREE parking spots and great restaurants lining Main Street and surrounding area! We’ll see you soon!\nPlease note all ticket sales are final. \n 
URL:https://thebendwi.org/event/the-rush-tribute-project-march-14/
CATEGORIES:Featured,Live Events
ATTACH;FMTTYPE=image/jpeg:https://thebendwi.org/wp-content/uploads/2025/09/Rush-Tribute-Project-WordPress.jpg
END:VEVENT
END:VCALENDAR