BEGIN:VCALENDAR
VERSION:2.0
PRODID:-//The Bend Theater | West Bend, WI - ECPv6.15.17.1//NONSGML v1.0//EN
CALSCALE:GREGORIAN
METHOD:PUBLISH
X-ORIGINAL-URL:https://thebendwi.org
X-WR-CALDESC:Events for The Bend Theater | West Bend, WI
REFRESH-INTERVAL;VALUE=DURATION:PT1H
X-Robots-Tag:noindex
X-PUBLISHED-TTL:PT1H
BEGIN:VTIMEZONE
TZID:America/Chicago
BEGIN:DAYLIGHT
TZOFFSETFROM:-0600
TZOFFSETTO:-0500
TZNAME:CDT
DTSTART:20240310T080000
END:DAYLIGHT
BEGIN:STANDARD
TZOFFSETFROM:-0500
TZOFFSETTO:-0600
TZNAME:CST
DTSTART:20241103T070000
END:STANDARD
BEGIN:DAYLIGHT
TZOFFSETFROM:-0600
TZOFFSETTO:-0500
TZNAME:CDT
DTSTART:20250309T080000
END:DAYLIGHT
BEGIN:STANDARD
TZOFFSETFROM:-0500
TZOFFSETTO:-0600
TZNAME:CST
DTSTART:20251102T070000
END:STANDARD
BEGIN:DAYLIGHT
TZOFFSETFROM:-0600
TZOFFSETTO:-0500
TZNAME:CDT
DTSTART:20260308T080000
END:DAYLIGHT
BEGIN:STANDARD
TZOFFSETFROM:-0500
TZOFFSETTO:-0600
TZNAME:CST
DTSTART:20261101T070000
END:STANDARD
END:VTIMEZONE
BEGIN:VEVENT
DTSTART;TZID=America/Chicago:20250426T193000
DTEND;TZID=America/Chicago:20250426T220000
DTSTAMP:20260419T080802
CREATED:20250128T181341Z
LAST-MODIFIED:20250413T043043Z
UID:2692-1745695800-1745704800@thebendwi.org
SUMMARY:Comedy with Brian Bates
DESCRIPTION:Comedy at The Bend featuring Brian Bates\nBrian Bates is a Nashville based comedian who tours the country performing at comedy clubs\, theaters\, corporate events\, and churches. You may have seen his Dry Bar Comedy specials or heard him as a guest on The Grand Ole Opry. He can also be heard regularly on LaughUSA on SiriusXM radio. \nWhen not on the road\, Brian joins fellow comedians Nate Bargatze\, Aaron Weber and Dusty Slay as one of the hosts of the “NateLand Podcast” which is heard by thousands of listeners each week. \nDoors open at 6:30 PM to give you time to find your seats\, visit our historic lobby\, concession stand and fully stocked bar! Show begins at approximately 7:30 PM
URL:https://thebendwi.org/event/comedy-with-brian-bates/
CATEGORIES:Featured,Live Events,Stand Up Comedy
ATTACH;FMTTYPE=image/jpeg:https://thebendwi.org/wp-content/uploads/2025/01/Brian-Bates-at-The-Bend-Theater.jpg
END:VEVENT
END:VCALENDAR