BEGIN:VCALENDAR
VERSION:2.0
PRODID:-//The Bend Theater | West Bend, WI - ECPv6.15.17.1//NONSGML v1.0//EN
CALSCALE:GREGORIAN
METHOD:PUBLISH
X-ORIGINAL-URL:https://thebendwi.org
X-WR-CALDESC:Events for The Bend Theater | West Bend, WI
REFRESH-INTERVAL;VALUE=DURATION:PT1H
X-Robots-Tag:noindex
X-PUBLISHED-TTL:PT1H
BEGIN:VTIMEZONE
TZID:America/Chicago
BEGIN:DAYLIGHT
TZOFFSETFROM:-0600
TZOFFSETTO:-0500
TZNAME:CDT
DTSTART:20240310T080000
END:DAYLIGHT
BEGIN:STANDARD
TZOFFSETFROM:-0500
TZOFFSETTO:-0600
TZNAME:CST
DTSTART:20241103T070000
END:STANDARD
BEGIN:DAYLIGHT
TZOFFSETFROM:-0600
TZOFFSETTO:-0500
TZNAME:CDT
DTSTART:20250309T080000
END:DAYLIGHT
BEGIN:STANDARD
TZOFFSETFROM:-0500
TZOFFSETTO:-0600
TZNAME:CST
DTSTART:20251102T070000
END:STANDARD
BEGIN:DAYLIGHT
TZOFFSETFROM:-0600
TZOFFSETTO:-0500
TZNAME:CDT
DTSTART:20260308T080000
END:DAYLIGHT
BEGIN:STANDARD
TZOFFSETFROM:-0500
TZOFFSETTO:-0600
TZNAME:CST
DTSTART:20261101T070000
END:STANDARD
END:VTIMEZONE
BEGIN:VEVENT
DTSTART;TZID=America/Chicago:20250425T193000
DTEND;TZID=America/Chicago:20250425T220000
DTSTAMP:20260421T171521
CREATED:20250128T191835Z
LAST-MODIFIED:20250413T043010Z
UID:2690-1745609400-1745618400@thebendwi.org
SUMMARY:Twitty & Lynn: A Salute to Conway & Loretta 2025
DESCRIPTION:Twitty & Lynn return to The Bend with a heartfelt tribute to their grandparents: \nConway Twitty & Loretta Lynn\nThere’s a moment right at the very beginning of any Twitty & Lynn show that affords country music fans the chance to look back in time. Just after the band has played the signature intro to “Louisiana Woman\, Mississippi Man\,” Tre Twitty and Tayla Lynn shoot each other a glance that summons the electrifying chemistry of their grandparents: Tre is the grandson of Conway Twitty\, Tayla is the granddaughter of Loretta Lynn. \nTwitty & Lynn — and their internationally popular show “A Salute to Conway & Loretta” — aren’t impersonators. Tre doesn’t groom Seventies sideburns and perm his hair; Tayla doesn’t mimic her grandmother’s mannerisms. Rather\, they are onstage celebrating country music\, the lost art of duet singing\, and the two beloved icons they refer to as “Poppy” and “Memaw.” \nDisclaimer: Dancing is permitted during all shows at The Bend Theater. By attending\, you acknowledge that audience members may stand\, move\, and dance during performances. Enjoy the music and embrace the energy!
URL:https://thebendwi.org/event/twitty-lynn-a-salute-to-conway-loretta-2025/
CATEGORIES:Featured,Live Events
ATTACH;FMTTYPE=image/jpeg:https://thebendwi.org/wp-content/uploads/2025/01/Twitty-Lynn-Live-at-The-Bend-Theater.jpg
END:VEVENT
END:VCALENDAR