BEGIN:VCALENDAR
VERSION:2.0
PRODID:-//The Bend Theater | West Bend, WI - ECPv6.15.17.1//NONSGML v1.0//EN
CALSCALE:GREGORIAN
METHOD:PUBLISH
X-WR-CALNAME:The Bend Theater | West Bend, WI
X-ORIGINAL-URL:https://thebendwi.org
X-WR-CALDESC:Events for The Bend Theater | West Bend, WI
REFRESH-INTERVAL;VALUE=DURATION:PT1H
X-Robots-Tag:noindex
X-PUBLISHED-TTL:PT1H
BEGIN:VTIMEZONE
TZID:America/Chicago
BEGIN:DAYLIGHT
TZOFFSETFROM:-0600
TZOFFSETTO:-0500
TZNAME:CDT
DTSTART:20240310T080000
END:DAYLIGHT
BEGIN:STANDARD
TZOFFSETFROM:-0500
TZOFFSETTO:-0600
TZNAME:CST
DTSTART:20241103T070000
END:STANDARD
BEGIN:DAYLIGHT
TZOFFSETFROM:-0600
TZOFFSETTO:-0500
TZNAME:CDT
DTSTART:20250309T080000
END:DAYLIGHT
BEGIN:STANDARD
TZOFFSETFROM:-0500
TZOFFSETTO:-0600
TZNAME:CST
DTSTART:20251102T070000
END:STANDARD
BEGIN:DAYLIGHT
TZOFFSETFROM:-0600
TZOFFSETTO:-0500
TZNAME:CDT
DTSTART:20260308T080000
END:DAYLIGHT
BEGIN:STANDARD
TZOFFSETFROM:-0500
TZOFFSETTO:-0600
TZNAME:CST
DTSTART:20261101T070000
END:STANDARD
END:VTIMEZONE
BEGIN:VEVENT
DTSTART;TZID=America/Chicago:20250412T193000
DTEND;TZID=America/Chicago:20250412T220000
DTSTAMP:20260421T170928
CREATED:20250113T173741Z
LAST-MODIFIED:20250326T114929Z
UID:2672-1744486200-1744495200@thebendwi.org
SUMMARY:Headley Grange: The 50th Anniversary of Physical Graffiti (Formerly No Quarter)
DESCRIPTION:Headley Grange celebrates the 50th Anniversary of Led Zeppelin’s ‘Physical Graffiti” Album\nIn September 1998\, No Quarter\, The Ultimate Led Zeppelin Experience was brought together in Milwaukee\, Wisconsin. Bound and determined to create the most mesmerizing and accurate portrayal of the band\, each individual member was selected to portray both the presence\, sound and playing styles of Robert Plant\, Jimmy Page\, John Bonham\, and John Paul Jones. Together they pay homage with its powerful and unmistakable Led Zeppelin sound. Since its formation\, No Quarter has played a number of performances. Their outstanding reputation and following has also kept the band in demand. If you missed Led Zeppelin live in the 70’s or are looking for a great chance to relive the Music\, Magic and Mystery of Zeppelin\, you must experience No Quarter. The sound and visual effects will astound you and bring you back to the “Hammer of Gods” career (from 1968-1980). \nIn 2023 We have Updated our Name to “Headley Grange”. We have added an additional Jeff on Guitar. Check out our 2 Guitar Attack with Jeff Hamilton and Jeff “Mitch” Mitchell\, debuting at Shank Hall 9/27/24!! They are more energized then ever to provide an unforgettable LIVE Experience! \nDoors open at 6:30 PM to give you time to find your seats\, visit our historic lobby\, concession stand and fully stocked bar! Show begins at approximately 7:30 PM \nDisclaimer: Dancing is permitted during all shows at The Bend Theater. By attending\, you acknowledge that audience members may stand\, move\, and dance during performances. Enjoy the music and embrace the energy!
URL:https://thebendwi.org/event/headley-grange-the-50th-anniversary-of-physical-graffiti/
CATEGORIES:Featured,Live Events
ATTACH;FMTTYPE=image/jpeg:https://thebendwi.org/wp-content/uploads/2025/01/Headley-Grange-WordPress.jpg
END:VEVENT
END:VCALENDAR