BEGIN:VCALENDAR
VERSION:2.0
PRODID:-//The Bend Theater | West Bend, WI - ECPv6.15.17.1//NONSGML v1.0//EN
CALSCALE:GREGORIAN
METHOD:PUBLISH
X-WR-CALNAME:The Bend Theater | West Bend, WI
X-ORIGINAL-URL:https://thebendwi.org
X-WR-CALDESC:Events for The Bend Theater | West Bend, WI
REFRESH-INTERVAL;VALUE=DURATION:PT1H
X-Robots-Tag:noindex
X-PUBLISHED-TTL:PT1H
BEGIN:VTIMEZONE
TZID:America/Chicago
BEGIN:DAYLIGHT
TZOFFSETFROM:-0600
TZOFFSETTO:-0500
TZNAME:CDT
DTSTART:20220313T080000
END:DAYLIGHT
BEGIN:STANDARD
TZOFFSETFROM:-0500
TZOFFSETTO:-0600
TZNAME:CST
DTSTART:20221106T070000
END:STANDARD
BEGIN:DAYLIGHT
TZOFFSETFROM:-0600
TZOFFSETTO:-0500
TZNAME:CDT
DTSTART:20230312T080000
END:DAYLIGHT
BEGIN:STANDARD
TZOFFSETFROM:-0500
TZOFFSETTO:-0600
TZNAME:CST
DTSTART:20231105T070000
END:STANDARD
BEGIN:DAYLIGHT
TZOFFSETFROM:-0600
TZOFFSETTO:-0500
TZNAME:CDT
DTSTART:20240310T080000
END:DAYLIGHT
BEGIN:STANDARD
TZOFFSETFROM:-0500
TZOFFSETTO:-0600
TZNAME:CST
DTSTART:20241103T070000
END:STANDARD
END:VTIMEZONE
BEGIN:VEVENT
DTSTART;TZID=America/Chicago:20230922T193000
DTEND;TZID=America/Chicago:20230922T220000
DTSTAMP:20260424T012808
CREATED:20230616T162936Z
LAST-MODIFIED:20230814T193617Z
UID:1967-1695411000-1695420000@thebendwi.org
SUMMARY:Live Music with WheelHouse
DESCRIPTION:The Bend Theater welcomes WheelHouse:\nWheelHouse provides a thrilling Americana and bluegrass experience that will leave you exhilarated by their rustic\, soulful melodies.\nWheelHouse is a nationally touring Americana and bluegrass band hailing from Madison\, Wisconsin. Known as one of the hardest working bands in the midwest\, they have played well over a thousand shows in the past 6 years and released 5 records. Featuring three and four part harmonies\, fiddle and guitar leads\, and driving rhythm of the upright bass WheelHouse brings an energy and attitude unique to themselves. \n  \nWheelHouse also owns their own brand of whiskey appropriately named WheelHouse Whiskey\, which can be found throughout southwestern Wisconsin. \nDoors open at 6:30 PM to give you time to find your seats\, visit our historic lobby\, concession stand and fully stocked bar! Show begins at approximately 7:30 PM
URL:https://thebendwi.org/event/live-music-with-wheelhouse/
CATEGORIES:Featured,Live Events
ATTACH;FMTTYPE=image/jpeg:https://thebendwi.org/wp-content/uploads/2023/06/Wheelhouse-Live-at-The-Bend-Theater.jpg
END:VEVENT
END:VCALENDAR