BEGIN:VCALENDAR
VERSION:2.0
PRODID:-//The Bend Theater | West Bend, WI - ECPv6.15.17.1//NONSGML v1.0//EN
CALSCALE:GREGORIAN
METHOD:PUBLISH
X-WR-CALNAME:The Bend Theater | West Bend, WI
X-ORIGINAL-URL:https://thebendwi.org
X-WR-CALDESC:Events for The Bend Theater | West Bend, WI
REFRESH-INTERVAL;VALUE=DURATION:PT1H
X-Robots-Tag:noindex
X-PUBLISHED-TTL:PT1H
BEGIN:VTIMEZONE
TZID:America/Chicago
BEGIN:DAYLIGHT
TZOFFSETFROM:-0600
TZOFFSETTO:-0500
TZNAME:CDT
DTSTART:20210314T080000
END:DAYLIGHT
BEGIN:STANDARD
TZOFFSETFROM:-0500
TZOFFSETTO:-0600
TZNAME:CST
DTSTART:20211107T070000
END:STANDARD
BEGIN:DAYLIGHT
TZOFFSETFROM:-0600
TZOFFSETTO:-0500
TZNAME:CDT
DTSTART:20220313T080000
END:DAYLIGHT
BEGIN:STANDARD
TZOFFSETFROM:-0500
TZOFFSETTO:-0600
TZNAME:CST
DTSTART:20221106T070000
END:STANDARD
BEGIN:DAYLIGHT
TZOFFSETFROM:-0600
TZOFFSETTO:-0500
TZNAME:CDT
DTSTART:20230312T080000
END:DAYLIGHT
BEGIN:STANDARD
TZOFFSETFROM:-0500
TZOFFSETTO:-0600
TZNAME:CST
DTSTART:20231105T070000
END:STANDARD
END:VTIMEZONE
BEGIN:VEVENT
DTSTART;TZID=America/Chicago:20221217T193000
DTEND;TZID=America/Chicago:20221217T220000
DTSTAMP:20260422T125740
CREATED:20221104T181150Z
LAST-MODIFIED:20221202T162416Z
UID:1388-1671305400-1671314400@thebendwi.org
SUMMARY:The Bend Theater Presents: Hometown Christmas Ft. Nicolas Novaczyk\, Tim Schmidt and Dave Burkart
DESCRIPTION:The Bend Theater Presents: Hometown Christmas\nAll ticket sales directly support The Bend Theater’s nonprofit mission in our community. Our experience venue is the life blood of Downtown West Bend\, and we hope to share a night of music\, family\, and connections with the community we are so grateful for. Don’t miss this chance to share some holiday cheer and help us continue to be a community’s gathering place for all! \nNicholas Novaczyk\, The President of our historic theater is an original instrumental pianist\, and has spent 30 years writing original 88 keys of music. The basic grand piano at center stage reaches back to a simpler time in music and where the pin drop acoustics at The Bend will be on full display. \nTim Schmidt for the 2nd year in a row will grace The Bend Theater’s historic stage. Tim’s community and professional success leave us little room to introduce him. Known across the country for his entrepreneurial skills and gracious humble community building efforts\, he will bring his authentic soulful guitar/vocal presentations for all of us to enjoy. \nDave Burkart comes from music\, born with a guitar and a microphone waiting for him. Dave will bring his Minneapolis acoustic rock\, some holiday classics\, and a show that is real\, connected\, and nothing short of a must see. We last saw Dave at The Bend supporting Kat Perkins. We can’t wait for him to be back on our stage to sing classic covers\, holiday gems\, and some original surprises for us all! \nThere’s even more in store for the evening with special guest\, wine pulls\, and holiday decor you won’t want to miss! \nScott\, our creative beverage director\, will put his holiday-themed mixology skills to the test! He will also have a not-to-miss wine pull – stocked with anything from Boones Farm to Caymus! \nSpecial musical guests may be in the holiday spirit and join our Hometown Christmas! This is a night of family\, community and giving thanks for all that we have been blessed with in our very own hometown of West Bend. Join us on December 17th for a not-so-silent night. \nDoors open at 6:30 PM to give you time to find your seats\, visit our historic lobby\, concession stand and fully stocked bar! \nShow begins at approximately 7:30 PM
URL:https://thebendwi.org/event/the-bend-theater-presents-hometown-christmas-ft-nicolas-novaczyk-tim-schmidt-and-dave-burkart/
CATEGORIES:Live Events
ATTACH;FMTTYPE=image/jpeg:https://thebendwi.org/wp-content/uploads/2022/10/Hometown-Christmas.jpg
END:VEVENT
END:VCALENDAR