BEGIN:VCALENDAR
VERSION:2.0
PRODID:-//The Bend Theater | West Bend, WI - ECPv6.15.17.1//NONSGML v1.0//EN
CALSCALE:GREGORIAN
METHOD:PUBLISH
X-ORIGINAL-URL:https://thebendwi.org
X-WR-CALDESC:Events for The Bend Theater | West Bend, WI
REFRESH-INTERVAL;VALUE=DURATION:PT1H
X-Robots-Tag:noindex
X-PUBLISHED-TTL:PT1H
BEGIN:VTIMEZONE
TZID:America/Chicago
BEGIN:DAYLIGHT
TZOFFSETFROM:-0600
TZOFFSETTO:-0500
TZNAME:CDT
DTSTART:20210314T080000
END:DAYLIGHT
BEGIN:STANDARD
TZOFFSETFROM:-0500
TZOFFSETTO:-0600
TZNAME:CST
DTSTART:20211107T070000
END:STANDARD
BEGIN:DAYLIGHT
TZOFFSETFROM:-0600
TZOFFSETTO:-0500
TZNAME:CDT
DTSTART:20220313T080000
END:DAYLIGHT
BEGIN:STANDARD
TZOFFSETFROM:-0500
TZOFFSETTO:-0600
TZNAME:CST
DTSTART:20221106T070000
END:STANDARD
BEGIN:DAYLIGHT
TZOFFSETFROM:-0600
TZOFFSETTO:-0500
TZNAME:CDT
DTSTART:20230312T080000
END:DAYLIGHT
BEGIN:STANDARD
TZOFFSETFROM:-0500
TZOFFSETTO:-0600
TZNAME:CST
DTSTART:20231105T070000
END:STANDARD
END:VTIMEZONE
BEGIN:VEVENT
DTSTART;TZID=America/Chicago:20221211T130000
DTEND;TZID=America/Chicago:20221211T153000
DTSTAMP:20260422T125930
CREATED:20221026T023243Z
LAST-MODIFIED:20221129T235918Z
UID:1367-1670763600-1670772600@thebendwi.org
SUMMARY:The Polar Express (2004 - G) including a Special "Surprise" Meet and Greet with Santa Claus
DESCRIPTION:Celebrate the Holiday Season at The Bend Theater \nShhh… This screening includes a Special “Surprise” visit from Santa Claus after the movie!\nThis special screening of the holiday classic The Polar Express is the perfect way to get the entire family in the holiday spirit! Plus\, there will be a small gift for the kids as well as a meet and greet opportunity with the legendary Father Christmas himself. \nTom Hanks and director Robert Zemeckis (“Forrest Gump”; “Cast Away”) reunite for “Polar Express\,” an inspiring adventure based on the beloved children’s book by Chris Van Allsburg. When a doubting young boy takes an extraordinary train ride to the North Pole\, he embarks on a journey of self-discovery that shows him that the wonder of life never fades for those who believe. \nDoors open at 12:30 PM to give you time to pick your seats\, visit our historic lobby\, concession stand and fully stocked bar! \nShow begins at approximately 1:00 PM
URL:https://thebendwi.org/event/the-polar-express-2004-g-including-a-special-surprise-meet-and-greet-with-santa-claus/
ATTACH;FMTTYPE=image/jpeg:https://thebendwi.org/wp-content/uploads/2022/10/Polar-Express.jpg
END:VEVENT
BEGIN:VEVENT
DTSTART;TZID=America/Chicago:20221211T190000
DTEND;TZID=America/Chicago:20221211T210000
DTSTAMP:20260422T125930
CREATED:20221026T023503Z
LAST-MODIFIED:20221129T212229Z
UID:1370-1670785200-1670792400@thebendwi.org
SUMMARY:A Christmas Story (1983-PG)
DESCRIPTION:Celebrate the Holiday Season at The Bend Theater\nBased on the humorous writings of author Jean Shepherd\, this beloved holiday movie follows the wintry exploits of youngster Ralphie Parker (Peter Billingsley)\, who spends most of his time dodging a bully (Zack Ward) and dreaming of his ideal Christmas gift\, a “Red Ryder air rifle.” Frequently at odds with his cranky dad (Darren McGavin) but comforted by his doting mother (Melinda Dillon)\, Ralphie struggles to make it to Christmas Day with his glasses and his hopes intact. \nDoors open at 6:30 PM to give you time to pick your seats\, visit our historic lobby\, concession stand and fully stocked bar! \nShow begins at approximately 7:00 PM
URL:https://thebendwi.org/event/a-christmas-story-1983-pg/
ATTACH;FMTTYPE=image/jpeg:https://thebendwi.org/wp-content/uploads/2022/10/ChristmasStory2x3.jpg
END:VEVENT
END:VCALENDAR