BEGIN:VCALENDAR
VERSION:2.0
PRODID:-//The Bend Theater | West Bend, WI - ECPv6.15.17.1//NONSGML v1.0//EN
CALSCALE:GREGORIAN
METHOD:PUBLISH
X-WR-CALNAME:The Bend Theater | West Bend, WI
X-ORIGINAL-URL:https://thebendwi.org
X-WR-CALDESC:Events for The Bend Theater | West Bend, WI
REFRESH-INTERVAL;VALUE=DURATION:PT1H
X-Robots-Tag:noindex
X-PUBLISHED-TTL:PT1H
BEGIN:VTIMEZONE
TZID:America/Chicago
BEGIN:DAYLIGHT
TZOFFSETFROM:-0600
TZOFFSETTO:-0500
TZNAME:CDT
DTSTART:20210314T080000
END:DAYLIGHT
BEGIN:STANDARD
TZOFFSETFROM:-0500
TZOFFSETTO:-0600
TZNAME:CST
DTSTART:20211107T070000
END:STANDARD
BEGIN:DAYLIGHT
TZOFFSETFROM:-0600
TZOFFSETTO:-0500
TZNAME:CDT
DTSTART:20220313T080000
END:DAYLIGHT
BEGIN:STANDARD
TZOFFSETFROM:-0500
TZOFFSETTO:-0600
TZNAME:CST
DTSTART:20221106T070000
END:STANDARD
BEGIN:DAYLIGHT
TZOFFSETFROM:-0600
TZOFFSETTO:-0500
TZNAME:CDT
DTSTART:20230312T080000
END:DAYLIGHT
BEGIN:STANDARD
TZOFFSETFROM:-0500
TZOFFSETTO:-0600
TZNAME:CST
DTSTART:20231105T070000
END:STANDARD
END:VTIMEZONE
BEGIN:VEVENT
DTSTART;TZID=America/Chicago:20220528T090000
DTEND;TZID=America/Chicago:20220528T110000
DTSTAMP:20260422T105652
CREATED:20220518T192611Z
LAST-MODIFIED:20220518T192611Z
UID:1142-1653728400-1653735600@thebendwi.org
SUMMARY:Farmers' Market Open House
DESCRIPTION:It’s Farmers’ Market Season! \nCome join us at The Bend every Saturday from 9-11 AM for popcorn\, a mimosa or Bloody Mary from our full bar and a tour! \nIt’s the perfect (and free) way to come and see all of the work that our nonprofit organization has put into our community.
URL:https://thebendwi.org/event/farmers-market-open-house-2/
LOCATION:Donate
ATTACH;FMTTYPE=:
END:VEVENT
BEGIN:VEVENT
DTSTART;TZID=America/Chicago:20220528T190000
DTEND;TZID=America/Chicago:20220528T220000
DTSTAMP:20260422T105652
CREATED:20220318T165331Z
LAST-MODIFIED:20220318T165331Z
UID:1040-1653764400-1653775200@thebendwi.org
SUMMARY:Stand Up Comedy + Live Comedy Movie Commentary: Bobby Jaycox
DESCRIPTION:The Bend is thrilled to be bringing the hilarious Bobby Jaycox back to their historic stage for two nights of stand up comedy plus a bonus live comedy commentary for the sci-fi classic film The Brain That Wouldn’t Die. \n  \nFriday\, May 27th Bobby will be performing his traditional stand up comedy set. You can get tickets to Friday’s show here. Then on Saturday\, May 28th Bobby will be adding on to his traditional stand up routine with a finale of a bonus live comedy commentary for the sci-fi classic film The Brain That Wouldn’t Die.  Think Mystery Science Theater 3000.  A truly funny comedian riffing on an already ridiculous film will leave you in stitches. \n  \nNow if you weren’t lucky enough to see Bobby at The Bend when he opened for Erica Rhodes in 2021\, here’s what you need to know: \nBobby is a stand-up comedian and actor based in St. Louis\, Bobby Jaycox is one of the funniest voices in the Midwest today\, performing at comedy clubs and colleges across the country. His fun energy both on and off stage\, strong writing and professionalism have earned him spots opening for stars\, such as Dave Chapelle\, Natasha Leggero\, Nikki Glaser\, Rory Scovel\, and Brian Regan\, in addition to performances on the road with comics Carly Aquilino and Taylor Williamson. Bobby’s material pulls from his real-life experiences as a firefighter and EMT\, past relationships\, wildly embarrassing moments and the absurd. \n  \nAn experienced improviser and sketch performer\, Bobby was also a cast member and the head monologue writer for STL Up Late\, an interactive late-night talk show which ran on St. Louis’ CBS TV affiliate (KMOV). His improv team\, Burnside\, has performed at several festivals across the country\, including Flyover Comedy Festival\, Chicago Improv Festival\, and the Detroit Improv Festival. \n  \nGet your tickets to enjoy two nights of memorable comedy at The Bend with Bobby Jaycox!
URL:https://thebendwi.org/event/stand-up-comedy-live-comedy-movie-commentary-bobby-jaycox/
LOCATION:Donate
ATTACH;FMTTYPE=:
END:VEVENT
END:VCALENDAR